BEGIN:VCALENDAR
VERSION:2.0
PRODID:-//ChamberMaster//Event Calendar 2.0//EN
METHOD:PUBLISH
X-PUBLISHED-TTL:P3D
REFRESH-INTERVAL:P3D
CALSCALE:GREGORIAN
BEGIN:VEVENT
DTSTART:20230912T130000Z
DTEND:20230912T160000Z
X-MICROSOFT-CDO-ALLDAYEVENT:FALSE
SUMMARY:State of DE Virtual Training - How the State Does Business & Business Intelligence
DESCRIPTION:During this virtual session we will explain how the State does business (identify what's under contract\, explain Mandatory Use\, discuss what the thresholds are and when they come into play)\, and identify the business intelligence available to the vendor community and the benefits.\n\n\n\nSpecial guests include SBA & OSD.\n\n\n\nRegistration is free and open through EventBrite.
X-ALT-DESC;FMTTYPE=text/html:During this virtual session we will explain how the State does business (identify what&#39\;s under contract\, explain Mandatory Use\, discuss what the thresholds are and when they come into play)\, and identify the business intelligence available to the vendor community and the benefits.<br />\n<br />\nSpecial guests include SBA &amp\; OSD.<br />\n<br />\nRegistration is free and open through <a href="https://www.eventbrite.com/cc/vendor-training-1928149">EventBrite</a>.
LOCATION:Online
UID:e.2126.26653
SEQUENCE:3
DTSTAMP:20260420T195534Z
URL:http://business.thequietresorts.com/events/details/state-of-de-virtual-training-how-the-state-does-business-business-intelligence-26653
END:VEVENT

END:VCALENDAR
