BEGIN:VCALENDAR
VERSION:2.0
PRODID:-//ChamberMaster//Event Calendar 2.0//EN
METHOD:PUBLISH
X-PUBLISHED-TTL:P3D
REFRESH-INTERVAL:P3D
CALSCALE:GREGORIAN
BEGIN:VEVENT
DTSTART:20230603T120000Z
DTEND:20230610T180000Z
X-MICROSOFT-CDO-ALLDAYEVENT:FALSE
SUMMARY:Stand Up for the Bays Paddle Race & Fest
DESCRIPTION:Come out and "Stand Up" for our Inland Bays!   Delaware Center for the Inland Bays and our amazing friends at CheSUPeake are teaming up to offer you an adventure-filled day of paddle fun!!  Various paddle race distances and a 'recreational paddle' option are part of the mix\, so there's something for everyone. Plus\, live music from Homestead Bluegrass Band\, tasty & healthy food from Taco Reho and Bountiful Bowls\, cold beverages from Dewey Beer Co.\, lots of enviro-education\, raffles and more. Come out and help raise funds to restore\, protect\, and preserve our Inland Bays!\n\n\nStand Up for the Bays features 4 different courses in Indian River Bay starting and finishing at Holts Landing State Park. There are opportunities for racers of all ages\; and categories for stand-up paddleboards (SUP)\, Surfski\, Sea Kayaks (14  and up only)\, OC1\, and OC2. Aside from a fun paddle & post-paddle fest\, registered racers/paddlers will receive an event t-shirt\, one post-paddle beverage\, and some tasty post-paddle grub.
X-ALT-DESC;FMTTYPE=text/html:<div>Come out and &ldquo\;Stand Up&rdquo\; for our Inland Bays!&nbsp\; &nbsp\;Delaware Center for the Inland Bays and our amazing friends at CheSUPeake are teaming up to offer you an adventure-filled day of paddle fun!!&nbsp\; Various paddle race distances and a &lsquo\;recreational paddle&rsquo\; option are part of the mix\, so there&rsquo\;s something for everyone. Plus\, live music from Homestead Bluegrass Band\, tasty &amp\; healthy food from Taco Reho and Bountiful Bowls\, cold beverages from Dewey Beer Co.\, lots of enviro-education\, raffles and more. Come out and help raise funds to restore\, protect\, and preserve our Inland Bays!</div>\n\n<div>\n<p>Stand Up for the Bays features 4 different courses in Indian River Bay starting and finishing at Holts Landing State Park. There are opportunities for racers of all ages\; and categories for stand-up paddleboards (SUP)\, Surfski\, Sea Kayaks (14&prime\; and up only)\, OC1\, and OC2. Aside from a fun paddle &amp\; post-paddle fest\, registered racers/paddlers will receive an event t-shirt\, one post-paddle beverage\, and some tasty post-paddle grub.</p>\n</div>\n
LOCATION:Holts Landing State Park 27046 Holts Lndg Rd\, Dagsboro\, DE 19939
UID:e.2126.25209
SEQUENCE:3
DTSTAMP:20260421T004754Z
URL:http://business.thequietresorts.com/events/details/stand-up-for-the-bays-paddle-race-fest-25209
END:VEVENT

END:VCALENDAR
