BEGIN:VCALENDAR
VERSION:2.0
PRODID:-//ChamberMaster//Event Calendar 2.0//EN
METHOD:PUBLISH
X-PUBLISHED-TTL:P3D
REFRESH-INTERVAL:P3D
CALSCALE:GREGORIAN
BEGIN:VEVENT
DTSTART:20240427T070000Z
DTEND:20240427T090000Z
X-MICROSOFT-CDO-ALLDAYEVENT:FALSE
SUMMARY:St Supery Wine Class at Banks Wine & Spirits
DESCRIPTION:Saturday\, April 27th 3-5pm\n\nThis class provides a hands-on introduction for St. Supery Estates. You'll explore a few of tyheir finest grape varietals through sight\, smell\, and taste\, while also gaining the basic skills to describe these exquisite wines accurately\, and make food and wine pairings.\n\nThis class will be presented by Tod Umbach\, St. Supery Estates Northeast Sales Manager.\n\nThe following wines will be sampled\, along with a charcuterie cups:\n\n\n	St. Supery Sauvignon Blanc\n	St. Supery Dollarhide Sauvignon Blanc\n	St. Supery Merlot\n	St. Supery Elu Red Blend
X-ALT-DESC;FMTTYPE=text/html:<h2>Saturday\, April 27th 3-5pm</h2>\n\n<h2>This class provides a hands-on introduction for St. Supery Estates. You&#39\;ll explore a few of tyheir finest grape varietals through sight\, smell\, and taste\, while also gaining the basic skills to describe these exquisite wines accurately\, and make food and wine pairings.</h2>\n\n<h2>This class will be presented by Tod Umbach\, St. Supery Estates Northeast Sales Manager.</h2>\n\n<h2>The following wines will be sampled\, along with a charcuterie cups:</h2>\n\n<ul>\n	<li>St. Supery Sauvignon Blanc</li>\n	<li>St. Supery Dollarhide Sauvignon Blanc</li>\n	<li>St. Supery Merlot</li>\n	<li>St. Supery Elu Red Blend</li>\n</ul>\n
LOCATION:"The Vault" @ Banks Wines & Spirits 38014 Town Center Dr Millville DE 19967
UID:e.2126.28726
SEQUENCE:3
DTSTAMP:20260420T061129Z
URL:http://business.thequietresorts.com/events/details/st-supery-wine-class-at-banks-wine-spirits-28726
END:VEVENT

END:VCALENDAR
