BEGIN:VCALENDAR
VERSION:2.0
PRODID:-//ChamberMaster//Event Calendar 2.0//EN
METHOD:PUBLISH
X-PUBLISHED-TTL:P3D
REFRESH-INTERVAL:P3D
CALSCALE:GREGORIAN
BEGIN:VEVENT
DTSTART:20240316T160000Z
DTEND:20240317T020000Z
X-MICROSOFT-CDO-ALLDAYEVENT:FALSE
SUMMARY:St. Patrick's Day Party at Bethany Brewing
DESCRIPTION:Celebrate St. Patrick's Day at Bethany Brewing this Saturday! Stop in for a taste of our craft beers\, with 2 new ones on tap\, and enjoy live music by Steve Sottung from 6:30pm - 9:30pm.
X-ALT-DESC;FMTTYPE=text/html:Celebrate St. Patrick&#39\;s Day at Bethany Brewing this Saturday! Stop in for a taste of our craft beers\, with 2 new ones on tap\, and enjoy live music by Steve Sottung from 6:30pm - 9:30pm.
LOCATION:Bethany Brewing 38450 Hickman Rd. Ocean View\, DE 19970
UID:e.2126.28538
SEQUENCE:3
DTSTAMP:20260420T073124Z
URL:http://business.thequietresorts.com/events/details/st-patrick-s-day-party-at-bethany-brewing-28538
END:VEVENT

END:VCALENDAR
