BEGIN:VCALENDAR
VERSION:2.0
PRODID:-//ChamberMaster//Event Calendar 2.0//EN
METHOD:PUBLISH
X-PUBLISHED-TTL:P3D
REFRESH-INTERVAL:P3D
CALSCALE:GREGORIAN
BEGIN:VEVENT
DTSTART:20200313T150000Z
DTEND:20200316T030000Z
X-MICROSOFT-CDO-ALLDAYEVENT:FALSE
SUMMARY:St. Patrick's Day 3 days to PARTY at The Salted Rim
DESCRIPTION:Come Get Your Irish on at your St. Patrick's Party Headquarters\n\nat The Salted Rim\n\n\n\n3 Party Days\n\nAll Day & Night\n\nFriday 3/13 - Sunday 3/15\n\n\n\nFood - Fun - Prizes - Entertainment - Drinks - Specials\n\n\n\nFriday 3/13\n\nAaron Howell (acoustic) 6-9\n\nDJ Rupe 9-12\n\n\n\nSaturday - 3/14\n\nSee us in the OC Parade and then continue the fun at The Salted Rim\n\nDJ Pat - 12-4\n\nDJ Rupe - 4-12\n\n\n\nSunday - 3/15\n\nTaylor Knox (acoustic) - 2-5\n\n\n\nFood Specials\n\n$10.17   Corned Beef & Cabbage\n\n$7.17  Irish Stew\n\n$9.17  Shepard's Pie\n\n$9.17 Bangers & Mash\n\n$9.17 Fish & Chips\n\n$10.99  Corned Beef Reuben\n\n$10.99  Corned Beef Sandwich\n\nWHILE IT LASTS!\n\n\n\n  Drink Specials\n\n$2.50  Green Draft\n\n$3.00  Fireball\n\n$1.00  Jello Shooters\n\n$7.00  Car Bombs\n\n$6.00  Irish Coffee\n\n$5.00  Guinness\n\n$3.00  Green Shooters\n\n$5.00  Green Margaritas (house non-frozen)\n\n\n\n\n\nCOME GET YOUR IRISH ON!!!
X-ALT-DESC;FMTTYPE=text/html:<div style="text-align: center\;"><span style="font-size: 14px\;"><span style="font-family: arial\;"><span style="font-size: 16px\;"><strong><span style="color: rgb(0\, 204\, 51)\;">Come Get Your Irish on at your St. Patrick&#39\;s Party Headquarters<br />\nat The Salted Rim</span></strong></span></span></span></div>\n\n<div style="text-align: center\;"><br />\n<span style="font-size: 14px\;"><span style="font-family: arial\;">3 Party Days<br />\nAll Day &amp\; Night<br />\nFriday 3/13 - Sunday 3/15</span></span></div>\n\n<div style="text-align: center\;"><br />\n<span style="font-size: 14px\;"><span style="font-family: arial\;"><em>Food - Fun - Prizes - Entertainment - Drinks - Specials</em></span></span></div>\n\n<div style="text-align: center\;"><br />\n<span style="font-size: 14px\;"><span style="font-family: arial\;"><strong>Friday 3/13</strong><br />\nAaron Howell (acoustic) 6-9<br />\nDJ Rupe 9-12<br />\n<br />\n<strong>Saturday - 3/14</strong><br />\nSee us in the OC Parade and then continue the fun at The Salted Rim<br />\nDJ Pat - 12-4<br />\nDJ Rupe - 4-12<br />\n<br />\n<strong>Sunday - 3/15</strong><br />\nTaylor Knox (acoustic) - 2-5<br />\n<br />\n<strong>Food Specials</strong><br />\n$10.17&nbsp\; &nbsp\;Corned Beef &amp\; Cabbage<br />\n$7.17&nbsp\; Irish Stew<br />\n$9.17&nbsp\; Shepard&#39\;s Pie<br />\n$9.17 Bangers &amp\; Mash<br />\n$9.17 Fish &amp\; Chips<br />\n$10.99&nbsp\; Corned Beef Reuben<br />\n$10.99&nbsp\; Corned Beef Sandwich<br />\nWHILE IT LASTS!<br />\n<br />\n&nbsp\;&nbsp\;<strong>Drink Specials</strong><br />\n<span style="color: rgb(0\, 0\, 0)\;">$2.50&nbsp\; Green Draft<br />\n$3.00&nbsp\; Fireball<br />\n$1.00&nbsp\; Jello Shooters<br />\n$7.00&nbsp\; Car Bombs<br />\n$6.00&nbsp\; Irish Coffee<br />\n$5.00&nbsp\; Guinness<br />\n$3.00&nbsp\; Green Shooters<br />\n$5.00&nbsp\; Green Margaritas&nbsp\;(house non-frozen)<br />\n<br />\n<br />\n<strong>COME GET YOUR IRISH ON!!!</strong></span></span></span></div>\n
LOCATION:The Salted Rim 27 Atlantic Avenue Ocean View\, DE 19970
UID:e.2126.20267
SEQUENCE:3
DTSTAMP:20260425T225414Z
URL:http://business.thequietresorts.com/events/details/st-patrick-s-day-3-days-to-party-at-the-salted-rim-20267
END:VEVENT

END:VCALENDAR
