BEGIN:VCALENDAR
VERSION:2.0
PRODID:-//ChamberMaster//Event Calendar 2.0//EN
METHOD:PUBLISH
X-PUBLISHED-TTL:P3D
REFRESH-INTERVAL:P3D
CALSCALE:GREGORIAN
BEGIN:VEVENT
DTSTART:20240315T153000Z
DTEND:20240318T020000Z
X-MICROSOFT-CDO-ALLDAYEVENT:FALSE
SUMMARY:St. Pat's Party Weekend at The Salted Rim
DESCRIPTION:"THE" Place to party at the BEACH\n\nfor ST. PAT'S\n\n \n\nAll Day & Night\n\n\n\nSt. Pat's Weekend\n\nFriday 3/15\n\nSaturday 3/16\n\nSunday 3/17\n\n\n\nEntertainment\n\nSt. Pat's Weekend\n\nFriday 3/15 - DJ Denny 8-11\n\nSaturday 3/16   DJ Rupe 1-5 & DJ Denny 5-11\n\nSunday 3/17   DJ Denny 2-8\n\n\n\nFood Specials\n\nCorned Beef & Cabbage\n\nCorned Beef Reuben\n\nIrish Stew\n\n\, Shepard's Pie\n\nBangers & Mash\n\nFish & Chips\n\nWhile They Last!!\n\n\n\nDrink Specials\n\nGreen Draft\n\nGreen Margaritas\n\nGuinness\n\nJello Shooters\n\nCar Bombs\n\nFireball\n\nIrish Coffee\n\nGreen Shooters\n\n\n\nCOME GET YOUR IRISH ON!!!\n\n\n\n* Happy Hour NOT available during St. Pat's Event Days *
X-ALT-DESC;FMTTYPE=text/html:<div style="text-align:center"><span style="font-family:comic sans ms"><span style="font-size:20px"><span style="color:rgb(0\, 204\, 51)"><strong>&quot\;THE&quot\; Place to party at the BEACH<br />\nfor ST. PAT&#39\;S</strong></span></span></span><br />\n&nbsp\;</div>\n\n<div style="text-align:center"><span style="font-family:arial"><span style="font-size:14px">All Day &amp\; Night<br />\n<br />\n<span style="font-family:verdana"><span style="color:#008000"><em><strong>St. Pat&#39\;s Weekend</strong></em></span></span><br />\n<span style="color:#FF8C00"><em><strong>Friday 3/15<br />\nSaturday 3/16<br />\nSunday 3/17</strong></em></span><br />\n<br />\n<span style="color:#008000"><em><strong>Entertainment</strong></em></span></span></span></div>\n\n<div><strong><span style="font-size:14px"><span style="font-family:comic sans ms"><span style="color:#008000">St. Pat&#39\;s Weekend</span></span></span><br />\nFriday 3/15</strong><span style="font-family:arial\; font-size:14px">&nbsp\;- </span><span style="font-family:arial\; font-size:14px">DJ Denny 8-11<br />\n<strong>Saturday 3/16</strong>&nbsp\;&bull\; DJ Rupe 1-5 &amp\; DJ Denny 5-11<br />\n<strong>Sunday 3/17</strong>&nbsp\;&bull\; DJ Denny 2-8</span></div>\n\n<div style="text-align:center"><br />\n<span style="font-family:arial"><span style="font-size:14px"><span style="color:#006400"><em><strong>Food Specials</strong></em></span></span></span><br />\nCorned Beef &amp\; Cabbage<br />\nCorned Beef Reuben<br />\nIrish Stew<br />\n\, Shepard&#39\;s Pie<br />\nBangers &amp\; Mash<br />\n<span style="font-family:arial\; font-size:14px">Fish &amp\; Chips</span><br />\n<span style="font-family:arial\; font-size:11px">While They Last!!</span></div>\n\n<div style="text-align:center"><br />\n<span style="font-size:14px"><strong><span style="color:#006400"><em>Drink Specials</em></span></strong></span><br />\n<span style="color:rgb(0\, 0\, 0)\; font-family:arial\; font-size:14px">Green Draft</span><br />\n<span style="font-family:arial\; font-size:14px">Green Margaritas</span><br />\n<span style="color:rgb(0\, 0\, 0)\; font-family:arial\; font-size:14px">Guinness</span><br />\n<span style="color:rgb(0\, 0\, 0)\; font-family:arial\; font-size:14px">Jello Shooters</span><br />\n<font color="#000000" face="arial"><span style="font-size:14px">Car Bombs</span></font><br />\n<span style="color:rgb(0\, 0\, 0)\; font-family:arial\; font-size:14px">Fireball</span><br />\n<span style="color:rgb(0\, 0\, 0)\; font-family:arial\; font-size:14px">Irish Coffee</span><br />\n<span style="color:rgb(0\, 0\, 0)\; font-family:arial\; font-size:14px">Green Shooters</span></div>\n\n<div style="text-align:center"><br />\n<span style="font-family:arial"><span style="font-size:14px"><span style="color:#FF8C00"><em><strong><span style="font-size:16px">COME GET YOUR IRISH ON!!!</span></strong></em></span><br />\n<br />\n<span style="color:#000000"><em><strong><span style="font-size:16px"><span style="font-size:12px">* Happy Hour NOT available during St. Pat&#39\;s Event Days *</span></span></strong></em></span></span></span></div>\n
LOCATION:The Salted Rim Margarita Bar & Grille 35553 Atlantic Avenue Millville\, DE 19967
UID:e.2126.28469
SEQUENCE:3
DTSTAMP:20260420T074047Z
URL:http://business.thequietresorts.com/events/details/st-pat-s-party-weekend-at-the-salted-rim-28469
END:VEVENT

END:VCALENDAR
