BEGIN:VCALENDAR
VERSION:2.0
PRODID:-//ChamberMaster//Event Calendar 2.0//EN
METHOD:PUBLISH
X-PUBLISHED-TTL:P3D
REFRESH-INTERVAL:P3D
CALSCALE:GREGORIAN
BEGIN:VEVENT
DTSTART:20220903T130000Z
DTEND:20220903T170000Z
X-MICROSOFT-CDO-ALLDAYEVENT:FALSE
SUMMARY:St. Martha's Episcopal Church Book Sale
DESCRIPTION:
X-ALT-DESC;FMTTYPE=text/html:
LOCATION:117 Maplewood Street Bethany Beach\, DE 19930
UID:e.2126.24087
SEQUENCE:3
DTSTAMP:20260421T173313Z
URL:http://business.thequietresorts.com/events/details/st-martha-s-episcopal-church-book-sale-09-03-2022-24087
END:VEVENT

END:VCALENDAR
