BEGIN:VCALENDAR
VERSION:2.0
PRODID:-//ChamberMaster//Event Calendar 2.0//EN
METHOD:PUBLISH
X-PUBLISHED-TTL:P3D
REFRESH-INTERVAL:P3D
CALSCALE:GREGORIAN
BEGIN:VEVENT
DTSTART:20230527T130000Z
DTEND:20230527T170000Z
X-MICROSOFT-CDO-ALLDAYEVENT:FALSE
SUMMARY:St. Martha's Episcopal Church Book and Bake Sale
DESCRIPTION:St. Martha's Episcopal Church will kick off the summer with our annual Memorial Day Book and Bake Sale on Saturday\, May 27 from 9 am to 1 pm.  It's a great opportunity to stock up on lots of good beach reads for the summer.  Also\, come early if you want to purchase baked goods because they sell out fast!
X-ALT-DESC;FMTTYPE=text/html:<span style="font-size:14px\;"><span style="font-family:arial\;">St. Martha&#39\;s Episcopal Church will kick off the summer with our annual Memorial Day Book and Bake Sale on Saturday\, May 27 from 9 am to 1 pm.&nbsp\; It&#39\;s a great opportunity to stock up on lots of good beach reads for the summer.&nbsp\; Also\, come early if you want to purchase baked goods because they sell out fast!&nbsp\; &nbsp\;</span></span>
LOCATION:St. Martha's Episcopal Church 117 Maplewood Street Bethany Beach\, DE 19930
UID:e.2126.25571
SEQUENCE:3
DTSTAMP:20260421T040843Z
URL:http://business.thequietresorts.com/events/details/st-martha-s-episcopal-church-book-and-bake-sale-25571
END:VEVENT

END:VCALENDAR
