BEGIN:VCALENDAR
VERSION:2.0
PRODID:-//ChamberMaster//Event Calendar 2.0//EN
METHOD:PUBLISH
X-PUBLISHED-TTL:P3D
REFRESH-INTERVAL:P3D
CALSCALE:GREGORIAN
BEGIN:VEVENT
DTSTART:20240327T150000Z
DTEND:20240327T203000Z
X-MICROSOFT-CDO-ALLDAYEVENT:FALSE
SUMMARY:St. Ann's Knights of Columbus Fairway to Heaven Golf Tournament
DESCRIPTION:We wish to invite you to participate in our inaugural St. Ann's Knights of Columbus "Fairway to Heaven" Golf Tournament to be held at the magnificent Bear Trap Dunes Golf Club in Ocean View\, Delaware!\n\n \n\nThe St. Ann's Knights of Columbus Council\, founded in 2017\, has had a major impact on our community\, through our donations to many various charities and through the thousands of hours our members have volunteered to help those in need! \n\n\n\nWe hope you will consider helping us expand our ability to help those in need.  Whether as a major sponsor\, driving range sponsor\, hole sponsor or just as a golfer we very much appreciate your participation.  Your sponsorship not only supports the work of the Knights of Columbus but also provides a great opportunity to promote your business to a large group of potential clients and customers.  We are working hard to promote the tournament and expect to sell out our 144 golfer positions.\n\n\n\nIts going to be a fantastic event!  \n\n\n\nThe registration fee includes:\n\n\n\nGreens fees                           Cart Rental\n\nContinental Breakfast            Use of Practice Facilities\n\nLunch on the Course             Longest Drive\n\nTwo Prize Raffle Tickets        Chance to win $1\,000 Ladder Truck Ball Drop\n\nTwo Drink Tickets                  Post Tournament Buffet Dinner & Awards Reception\n\n \n\nIn addition\, our event will include a Putting Contest and a Closest to the Pin Contest.  These contests and 50/50 Raffle Tickets will be available for purchase online or at the registration table.  Participants may also purchase additional chances to win raffle prizes and the $1\,000 Ladder Truck Ball Drop.  Our silent auction table will offer another opportunity to bring home some great prizes provided by generous local businesses!  To register to play or sponsor our event visit the event website noted below.\n\n\n\nAll available event sponsorships are described in the "Sponsorships" tab of the event website.\n\n\n\nWe thank you in advance for supporting our charitable mission and for making a positive impact in our community.
X-ALT-DESC;FMTTYPE=text/html:<span style="font-size:12px"><span style="font-family:arial\,helvetica\,sans-serif">We wish to invite you to participate in our inaugural St. Ann&rsquo\;s Knights of Columbus &ldquo\;Fairway to Heaven&rdquo\; Golf Tournament to be held at the magnificent Bear Trap Dunes Golf Club in Ocean View\, Delaware!<br />\n&nbsp\;<br />\nThe St. Ann&#39\;s Knights of Columbus Council\, founded in 2017\, has had a major impact on our community\, through our donations to many various charities and through the thousands of hours our members have volunteered to help those in need!&nbsp\;<br />\n<br />\nWe hope you will consider helping us expand our ability to help those in need.&nbsp\; Whether as a major sponsor\, driving range sponsor\, hole sponsor or just as a golfer we very much appreciate your participation.&nbsp\; Your sponsorship not only supports the work of the Knights of Columbus but also provides a great opportunity to promote your business to a large group of potential clients and customers.&nbsp\; We are working hard to promote the tournament and expect to sell out our 144 golfer positions.<br />\n<br />\nIts going to be a fantastic event!&nbsp\;&nbsp\;<br />\n<br />\n<u>The registration fee includes:</u><br />\n<br />\nGreens fees&nbsp\;&nbsp\;&nbsp\;&nbsp\;&nbsp\;&nbsp\;&nbsp\;&nbsp\;&nbsp\;&nbsp\;&nbsp\;&nbsp\;&nbsp\;&nbsp\;&nbsp\;&nbsp\;&nbsp\; &nbsp\; &nbsp\;&nbsp\; &nbsp\;&nbsp\;&nbsp\;&nbsp\;Cart Rental<br />\nContinental Breakfast&nbsp\;&nbsp\; &nbsp\; &nbsp\;&nbsp\;&nbsp\;&nbsp\;&nbsp\;&nbsp\;&nbsp\;Use of Practice Facilities<br />\nLunch on the Course&nbsp\;&nbsp\;&nbsp\; &nbsp\; &nbsp\;&nbsp\;&nbsp\;&nbsp\;&nbsp\;&nbsp\;&nbsp\;Longest Drive<br />\nTwo Prize Raffle Tickets&nbsp\;&nbsp\;&nbsp\;&nbsp\;&nbsp\;&nbsp\;&nbsp\;&nbsp\;Chance to win $1\,000 Ladder Truck Ball Drop<br />\nTwo Drink Tickets&nbsp\;&nbsp\;&nbsp\;&nbsp\;&nbsp\;&nbsp\;&nbsp\;&nbsp\;&nbsp\;&nbsp\;&nbsp\;&nbsp\;&nbsp\;&nbsp\;&nbsp\;&nbsp\;&nbsp\; Post Tournament Buffet Dinner &amp\; Awards Reception<br />\n<span style="font-size:11px">&nbsp\;<br />\n<span style="font-size:12px">In addition\, our event will include a Putting Contest and a Closest to the Pin Contest.&nbsp\; These contests and 50/50 Raffle Tickets will be available for purchase online or at the registration table.&nbsp\; Participants may also purchase additional chances to win raffle prizes and the $1\,000 Ladder Truck Ball Drop.&nbsp\; Our silent auction table will offer another opportunity to bring home some great prizes provided by generous local businesses!&nbsp\; To register to play or sponsor our event visit the event website noted below.</span></span><br />\n<br />\nAll available event sponsorships are described in the &quot\;Sponsorships&quot\; tab of the event website.<br />\n<br />\nWe thank you in advance for supporting our charitable mission and for making a positive impact in our community.</span></span>
LOCATION:Bear Trap Dunes Golf Club 7 Club House Drive Ocean View\, DE 19970
UID:e.2126.27780
SEQUENCE:3
DTSTAMP:20260420T075533Z
URL:http://business.thequietresorts.com/events/details/st-ann-s-knights-of-columbus-fairway-to-heaven-golf-tournament-27780
END:VEVENT

END:VCALENDAR
