BEGIN:VCALENDAR
VERSION:2.0
PRODID:-//ChamberMaster//Event Calendar 2.0//EN
METHOD:PUBLISH
X-PUBLISHED-TTL:P3D
REFRESH-INTERVAL:P3D
CALSCALE:GREGORIAN
BEGIN:VEVENT
DTSTART:20240621T180000Z
DTEND:20240621T190000Z
X-MICROSOFT-CDO-ALLDAYEVENT:FALSE
SUMMARY:SRP: DASEF - Your Passport for Adventure at Georgetown Public Library
DESCRIPTION:Bring your child to the library for this FREE program.\n\nWhere else can you travel around the world\, meet an endangered species\, and build like an architect all in one place? YOUR LIBRARY! Activities include: Travel to stations to fill passport books with stickers after completing each activity\; explore the globe finding places visited\, like to visit and locate landmarks\; explore a suitcase packed with items to identify and see how they work\; use a map with mini car following the roads and highways\; create a structure and so much more to explore for young adventurers to do!\n\nThis project was made possible in part by the Institute of Museum and Library Services.\n\nNO GEAR REQUIRED\, GRADES K-5TH
X-ALT-DESC;FMTTYPE=text/html:<p>Bring your child to the library for this FREE program.</p>\n\n<p>Where else can you travel around the world\, meet an endangered species\, and build like an architect all in one place? YOUR LIBRARY! Activities include: Travel to stations to fill passport books with stickers after completing each activity\; explore the globe finding places visited\, like to visit and locate landmarks\; explore a suitcase packed with items to identify and see how they work\; use a map with mini car following the roads and highways\; create a structure and so much more to explore for young adventurers to do!</p>\n\n<p>This project was made possible in part by the Institute of Museum and Library Services.</p>\n\n<p>NO GEAR REQUIRED\, GRADES K-5TH</p>\n
LOCATION:Georgetown Public Library 123 West Pine St Georgetown\, DE 19947
UID:e.2126.29290
SEQUENCE:3
DTSTAMP:20260420T091027Z
URL:http://business.thequietresorts.com/events/details/srp-dasef-your-passport-for-adventure-at-georgetown-public-library-29290
END:VEVENT

END:VCALENDAR
