BEGIN:VCALENDAR
VERSION:2.0
PRODID:-//ChamberMaster//Event Calendar 2.0//EN
METHOD:PUBLISH
X-PUBLISHED-TTL:P3D
REFRESH-INTERVAL:P3D
CALSCALE:GREGORIAN
BEGIN:VEVENT
DTSTART:20231215T180000Z
DTEND:20231215T200000Z
X-MICROSOFT-CDO-ALLDAYEVENT:FALSE
SUMMARY:Squash Blossom Mexican Cuisine Grand Opening Celebration
DESCRIPTION:Join the Bethany-Fenwick Area Chamber of Commerce from 1:00pm to 3:00pm on Friday\, December 15th\, to celebrate the grand opening of Squash Blossom Mexican Cuisine!  Squash Blossom is a food truck and catering company that specializes in vegetarian and vegan Mexican Cuisine\, and is available for all of your event and catering needs.\n\n\n\nThis celebration will be held in conjunction with Made By Hand International Cooperative's Customer Appreciation Day\, on Friday\, December 15th.  Stop by Made By Hand from 1:00pm - 3:00pm on the 15th to try Squash Blossom's delicious catering\, meet the Squash Blossom team and learn more about the food truck.  If you can't make it between 1:00pm and 3:00pm for the food\, you can visit Made By Hand anytime 9:00am to 5:00pm on the 15th to still take advantage of 20% off everything in store! \n\n\n\nWhether you're looking to try Squash Blossom's Mexican Cuisine or are working on holiday shopping and want to support Fair Trade\, this is an event you won't want to miss!\n\n\n\nAs a courtesy to our host\, RSVP is requested but not required.
X-ALT-DESC;FMTTYPE=text/html:Join the Bethany-Fenwick Area Chamber of Commerce from 1:00pm to 3:00pm on Friday\, December 15th\, to celebrate the grand opening of Squash Blossom Mexican Cuisine!&nbsp\; Squash Blossom is a food truck and catering company that specializes in vegetarian and vegan Mexican Cuisine\, and is available for all of your event and catering needs.<br />\n<br />\nThis celebration will be held in conjunction with <a href="https://business.bethany-fenwick.org/events/details/made-by-hand-international-co-op-customer-appreciation-day-27321">Made By Hand International Cooperative&#39\;s Customer Appreciation Day\,</a> on Friday\, December 15th.&nbsp\; Stop by Made By Hand from 1:00pm - 3:00pm on the 15th to try Squash Blossom&#39\;s delicious catering\, meet the Squash Blossom team and learn more about the food truck.&nbsp\; If you can&#39\;t make it between 1:00pm and 3:00pm for the food\, you can visit Made By Hand anytime 9:00am to 5:00pm on the 15th to still take advantage of 20% off everything in store!&nbsp\;<br />\n<br />\nWhether you&#39\;re looking to try Squash Blossom&#39\;s Mexican Cuisine or are working on holiday shopping and want to support Fair Trade\, this is an event you won&#39\;t want to miss!<br />\n<br />\nAs a courtesy to our host\, RSVP is requested but not required.
LOCATION:Made by Hand International Cooperative York Beach Mall 34444 Coastal Hwy.\, Unit 2 Bethany Beach\, DE\, 19930
UID:e.2126.27326
SEQUENCE:3
DTSTAMP:20260420T164944Z
URL:http://business.thequietresorts.com/events/details/squash-blossom-mexican-cuisine-grand-opening-celebration-27326
END:VEVENT

END:VCALENDAR
