BEGIN:VCALENDAR
VERSION:2.0
PRODID:-//ChamberMaster//Event Calendar 2.0//EN
METHOD:PUBLISH
X-PUBLISHED-TTL:P3D
REFRESH-INTERVAL:P3D
CALSCALE:GREGORIAN
BEGIN:VEVENT
DTSTART:20191212T183000Z
DTEND:20191212T200000Z
X-MICROSOFT-CDO-ALLDAYEVENT:FALSE
SUMMARY:Springpoint Choice Seminar
DESCRIPTION:Come and learn why more and more adults age 55+ have chosen to become members of Springpoint Choice for their long-term care and financial protection. Please RSVP today to reserve your spot! Call 302-313-6658 or spingpointchoice.org/rsvp-delaware.\n\n\n\nSeminar Schedule\n\nFriday\, November 8\n\n10:30 a.m. - 12:00 p.m.\n\n\n\nThursday\, November 21\n\n1:30 p.m. - 3:00 p.m.\n\n\n\nWednesday\, December 4\n\n10:30 a.m. - 12:00 p.m.\n\n\n\nThursday\, December 12\n\n1:30 p.m. - 3:00 p.m.
X-ALT-DESC;FMTTYPE=text/html:<span style="font-family: arial\;"><span style="font-size: 14px\;">Come and learn why more and more adults age 55+ have chosen to become members of Springpoint Choice for their long-term care and financial protection. Please RSVP today to reserve your spot! Call 302-313-6658 or spingpointchoice.org/rsvp-delaware.</span></span><br />\n<br />\n<span style="font-family: arial\;"><span style="font-size: 14px\;">Seminar Schedule<br />\nFriday\, November 8<br />\n10:30 a.m. - 12:00 p.m.<br />\n<br />\nThursday\, November 21<br />\n1:30 p.m. - 3:00 p.m.<br />\n<br />\nWednesday\, December 4<br />\n10:30 a.m. - 12:00 p.m.<br />\n<br />\nThursday\, December 12<br />\n1:30 p.m. - 3:00 p.m.</span></span><br />\n<br />\n&nbsp\;
LOCATION:The Moorings at Lewes 17028 Cadbury Cir. Lewes\, DE 19958
UID:e.2126.19431
SEQUENCE:3
DTSTAMP:20260426T034314Z
URL:http://business.thequietresorts.com/events/details/springpoint-choice-seminar-19431
END:VEVENT

END:VCALENDAR
