BEGIN:VCALENDAR
VERSION:2.0
PRODID:-//ChamberMaster//Event Calendar 2.0//EN
METHOD:PUBLISH
X-PUBLISHED-TTL:P3D
REFRESH-INTERVAL:P3D
CALSCALE:GREGORIAN
BEGIN:VEVENT
DTSTART;VALUE=DATE:20240421
DTEND;VALUE=DATE:20240422
TRANSP:TRANSPARENT
X-MICROSOFT-CDO-ALLDAYEVENT:TRUE
SUMMARY:Spring In To Summer Small Business Expo
DESCRIPTION:Spring In To Summer Small Business Expo will be held on Sunday\, April 21st from 1pm - 6pm at Cape Henlopen High School. At the free Expo\, you will great\, new home and personal service providers\, trusted local contractors\, and small business professionals.\n\n\n\nFor sponsorship opportunities\, call 302-502-6164.\n\n\n\nFor more information\, call 302-727-2841 or visit www.laplazadelaware.org.
X-ALT-DESC;FMTTYPE=text/html:Spring In To Summer Small Business Expo will be held on Sunday\, April 21st from 1pm - 6pm at Cape Henlopen High School. At the free Expo\, you will great\, new home and personal service providers\, trusted local contractors\, and small business professionals.<br />\n<br />\nFor sponsorship opportunities\, call 302-502-6164.<br />\n<br />\nFor more information\, call 302-727-2841 or visit www.laplazadelaware.org.
LOCATION:Cape Henlopen High School 1250 Kings Hwy. Lewes\, DE 19958
UID:e.2126.28543
SEQUENCE:3
DTSTAMP:20260420T061128Z
URL:http://business.thequietresorts.com/events/details/spring-in-to-summer-small-business-expo-28543
END:VEVENT

END:VCALENDAR
