BEGIN:VCALENDAR
VERSION:2.0
PRODID:-//ChamberMaster//Event Calendar 2.0//EN
METHOD:PUBLISH
X-PUBLISHED-TTL:P3D
REFRESH-INTERVAL:P3D
CALSCALE:GREGORIAN
BEGIN:VEVENT
DTSTART;VALUE=DATE:20240229
DTEND;VALUE=DATE:20240409
TRANSP:TRANSPARENT
X-MICROSOFT-CDO-ALLDAYEVENT:TRUE
SUMMARY:Spring Fling 2024 - Business Registration
DESCRIPTION:Businesses! \n\nIf you are interested in participating in the Spring Fling shop local initiative April 12th - 20th\, please sign up by April 8th\, using the green "Register Now" button.  If you have any questions\, call Emily at 302-539-2100 ext. 116.\n\n\n\nCustomers will be encouraged to Shop\, Dine\, Stay & Play  for a chance to win an in-store raffle from participating businesses or the grand prize! Every transaction (recommended $20+) or participation in business initiatives at a participating business grants that patron an entry into the grand prize drawings and that specific business's raffle prize drawing\, if applicable.  In-store raffle prize drawings will take place Monday\, April 22nd\, at participating businesses\, and the grand prize drawing will take place at the Chamber on Tuesday\, April 23rd.\n\n\n\nSponsored by the Delaware Division of Small Business\, this year's grand prize will be a spring flower bouquet of gift cards from participating businesses\, at a total value of $500!\n\n\n\nThis initiative\, organized by the Chamber\, is designed to support the local businesses of the Quiet Resorts which includes businesses of Bethany Beach\, Clarksville\, Dagsboro\, Fenwick Island\, Frankford\, Millville\, Ocean View\, Roxana\, Selbyville\, and South Bethany.\n\n\n\nHOW IT WORKS\n\n	Click green registration button at top of this page\n	Complete all required registration fields\, including promo/activity information for your business the week of April 12th - 20th\, and if you are choosing to offer an in-store raffle prize.\n	The Chamber will distribute ALL raffle tickets that will be used during the event.  You DO NOT need to purchase raffle tickets.\n	Store specific raffle prize drawings will take place in-store on Monday\, April 22nd if you choose to have an in-store raffle prize available\n	\n		 All businesses participating in Spring Fling will have raffle tickets\, even if they are not offering an in-store raffle prize.  In that instance\, raffle tickets would just go towards the grand prize drawings.\n	\n	\n	Grand prize drawings will take place on Tuesday\, April 23rd at the Chamber\n	\n		 All raffle tickets need to be dropped off at the Chamber or scheduled for pickup by 4pm on Monday\, April 22nd\n	\n	\n	You will be listed on the Chamber's Facebook Event Page\n	\n		Please accept Facebook co-host request. This will allow you to add information to event page and the event will show up on your business page. (If applicable)\n	\n	\n	The Chamber will distribute flyers. Please hang in the store.\n	Educate employees that the event is April 12th - 20th. It is recommended that purchases of $20+ grants entry.  ONLY give raffle tickets out on these dates.\n	You are responsible for all tickets you are given. In order for us to track the number of participation\, we must be able to collect ALL tickets\, used or not used\, at the end of the event (Monday\, April 22nd).\n	\n		Please keep collected tickets (used) and non-used tickets separate for when a Chamber staff member comes to collect. \n	\n	\n	There are multiple chances for patrons to win! Once your store's winner is selected\, remaining tickets go into basket for next prize\, and so on until all winners are selected!\n\nRULES FOR CUSTOMER TO QUALIFY\n\n\n	Purchases recommended to be of $20 or more\, but not required. \n	Participation in an activity\, event\, or initiative at a participating business can also grant entry into the raffle. \n	Purchase must be in-store\, or online for home-based businesses\, April 12th - 20th.\n	Must be 18 years of age or older to participate in raffle.\n\nIN STORE RAFFLE IDEAS!\n\n\n	Gift card\n	Gift basket\n	Complimentary services\n	Complimentary meals\n	Specific store giveaway \n	RAFFLE PRIZE MINIMUM VALUE: $25  & up to what makes sense for your business
X-ALT-DESC;FMTTYPE=text/html:<span style="font-size:14px\;"><span style="font-family:arial\;"><strong><em>Businesses!&nbsp\;<br />\nIf you are interested in participating in the Spring Fling shop local initiative April 12th - 20th\, please sign up by April 8th\, using the green &quot\;Register Now&quot\; button.&nbsp\; If you have any questions\, call Emily at 302-539-2100 ext. 116.</em></strong><br />\n<br />\nCustomers will be encouraged to<strong><em> Shop\, Dine\,</em></strong>&nbsp\;<strong><em>Stay &amp\; Play&nbsp\;</em></strong>&nbsp\;for a chance to win an in-store raffle from participating businesses or the grand prize!<strong>&nbsp\;</strong>Every transaction (recommended $20+) or participation in business initiatives at a participating business grants that patron an entry into the grand prize drawings and that specific business&#39\;s raffle prize drawing\, if applicable.&nbsp\; In-store raffle prize drawings will take place&nbsp\;<b>Monday\, April 22nd</b>\, at participating businesses\, and the grand prize drawing will take place at the Chamber on <strong>Tuesday\, April 23rd.</strong></span></span><br />\n<br />\n<strong><span style="font-size:14px\;">Sponsored by the Delaware Division of Small Business\, this year&#39\;s grand prize will be a spring flower bouquet of gift cards from participating businesses\, at a total value of $500!</span></strong><br />\n<br />\n<span style="color: rgb(37\, 32\, 26)\; font-family: arial\; font-size: 14px\;">This initiative\, organized by the Chamber\, is designed to support the&nbsp\;</span><span style="font-family: arial\; box-sizing: content-box\; font-weight: bolder\; inset: auto\; clear: none\; color: rgb(37\, 32\, 26)\; content: normal\; direction: inherit\; empty-cells: show\; font-variant-numeric: inherit\; font-variant-east-asian: inherit\; font-stretch: inherit\; font-size: 14px\; line-height: inherit\; margin: 0px\; max-height: none\; max-width: none\; min-height: initial\; min-width: initial\; opacity: 1\; outline-offset: 0px\; overflow: visible\; padding: 0px\; position: static\; resize: none\; table-layout: auto\; text-overflow: clip\; vertical-align: baseline\; visibility: inherit\; word-break: inherit\; overflow-wrap: inherit\; z-index: auto\; background-image: none\; background-position: initial\; background-size: initial\; background-repeat: initial\; background-attachment: initial\; background-origin: initial\; background-clip: initial\; border: none\; border-collapse: separate\; border-radius: 0px\; height: auto\; width: auto\; box-shadow: none\;">local businesses</span><span style="color: rgb(37\, 32\, 26)\; font-family: arial\; font-size: 14px\;">&nbsp\;of the Quiet Resorts which includes businesses of&nbsp\;</span><span style="font-family: arial\; box-sizing: content-box\; font-weight: bolder\; inset: auto\; clear: none\; color: rgb(37\, 32\, 26)\; content: normal\; direction: inherit\; empty-cells: show\; font-variant-numeric: inherit\; font-variant-east-asian: inherit\; font-stretch: inherit\; font-size: 14px\; line-height: inherit\; margin: 0px\; max-height: none\; max-width: none\; min-height: initial\; min-width: initial\; opacity: 1\; outline-offset: 0px\; overflow: visible\; padding: 0px\; position: static\; resize: none\; table-layout: auto\; text-overflow: clip\; vertical-align: baseline\; visibility: inherit\; word-break: inherit\; overflow-wrap: inherit\; z-index: auto\; background-image: none\; background-position: initial\; background-size: initial\; background-repeat: initial\; background-attachment: initial\; background-origin: initial\; background-clip: initial\; border: none\; border-collapse: separate\; border-radius: 0px\; height: auto\; width: auto\; box-shadow: none\;">Bethany Beach\, Clarksville\, Dagsboro\, Fenwick Island\, Frankford\, Millville\, Ocean View\, Roxana\, Selbyville\, and South Bethany</span><span style="color: rgb(37\, 32\, 26)\; font-family: arial\; font-size: 14px\;">.</span><br />\n<br />\n<span style="font-size:14px\;"><span style="font-family:arial\;"><u>HOW IT WORKS</u></span></span>\n<ul>\n	<li><span style="font-size:14px\;"><span style="font-family:arial\;">Click green registration button at top of this page</span></span></li>\n	<li><font face="arial"><span style="font-size: 14px\;">Complete all required registration fields\, including promo/activity information for your business the week of April 12th - 20th\, and if you are choosing to offer an in-store raffle prize.</span></font></li>\n	<li><strong style="font-family: arial\; font-size: 14px\;">The Chamber will distribute ALL raffle tickets that will be used during the event.&nbsp\; You DO NOT&nbsp\;need to purchase raffle tickets.</strong></li>\n	<li><span style="font-size:14px\;"><span style="font-family:arial\;">Store specific raffle prize drawings will take place in-store on Monday\, April 22nd&nbsp\;if you choose to have an in-store raffle prize available</span></span>\n	<ul>\n		<li><span style="font-size:14px\;"><span style="font-family:arial\;">&#8203\;All&nbsp\;businesses participating in Spring Fling will have raffle tickets\, even if they are not offering an in-store raffle prize.&nbsp\; In that&nbsp\;instance\, raffle tickets would just go towards the grand prize drawings.</span></span></li>\n	</ul>\n	</li>\n	<li><span style="font-size:14px\;"><span style="font-family:arial\;">Grand prize drawings will take place on Tuesday\, April 23rd&nbsp\;at the Chamber</span></span>\n	<ul>\n		<li><span style="font-size:14px\;"><span style="font-family:arial\;">&#8203\;All raffle tickets need to be dropped off at the Chamber or scheduled for pickup by 4pm on Monday\, April 22nd</span></span></li>\n	</ul>\n	</li>\n	<li><span style="font-size:14px\;"><span style="font-family:arial\;">You will be listed on the Chamber&#39\;s Facebook Event Page</span></span>\n	<ul>\n		<li><span style="font-size:14px\;"><span style="font-family:arial\;">Please accept Facebook co-host request. This will allow you to add information to event page and the event will show up on your business page. (If applicable)</span></span></li>\n	</ul>\n	</li>\n	<li><span style="font-size:14px\;"><span style="font-family:arial\;">The Chamber will distribute flyers. Please hang in the store.</span></span></li>\n	<li><span style="font-size:14px\;"><span style="font-family:arial\;">Educate employees that the event is April&nbsp\;12th&nbsp\;- 20th. It is recommended that purchases of $20+ grants entry.&nbsp\; ONLY give raffle tickets out on these dates.</span></span></li>\n	<li><span style="font-size:14px\;"><span style="font-family:arial\;">You are responsible for all tickets you are given. In order for us to track the number of participation\, we must be able to collect ALL tickets\, used or not used\, at the end of the event (Monday\, April 22nd).</span></span>\n	<ul>\n		<li><span style="font-size:14px\;"><span style="font-family:arial\;">Please keep collected tickets (used) and non-used tickets separate&nbsp\;for when a Chamber staff member comes to collect.&nbsp\;</span></span></li>\n	</ul>\n	</li>\n	<li><span style="font-size:14px\;"><span style="font-family:arial\;">There are multiple chances for patrons to win! Once your store&#39\;s winner is selected\, remaining tickets go into basket for next prize\, and so on until all winners are selected!</span></span></li>\n</ul>\n<span style="font-size:14px\;"><span style="font-family:arial\;"><u>RULES FOR CUSTOMER TO QUALIFY</u></span></span>\n\n<ul>\n	<li><span style="font-size:14px\;"><span style="font-family:arial\;">Purchases recommended to be of $20 or more\, but not required.&nbsp\;</span></span></li>\n	<li><font face="arial"><span style="font-size: 14px\;">Participation in an activity\, event\, or initiative at a participating business can also grant entry into the raffle.&nbsp\;</span></font></li>\n	<li><span style="font-size:14px\;"><span style="font-family:arial\;">Purchase must be in-store\, or online for home-based businesses\, April 12th&nbsp\;- 20th.</span></span></li>\n	<li><span style="font-size:14px\;"><span style="font-family:arial\;">Must be 18 years of age or older to participate in raffle.</span></span></li>\n</ul>\n<span style="font-size:14px\;"><span style="font-family:arial\;"><u>IN STORE RAFFLE IDEAS!</u></span></span>\n\n<ul>\n	<li><span style="font-size:14px\;"><span style="font-family:arial\;">Gift card</span></span></li>\n	<li><span style="font-size:14px\;"><span style="font-family:arial\;">Gift basket</span></span></li>\n	<li><span style="font-size:14px\;"><span style="font-family:arial\;">Complimentary services</span></span></li>\n	<li><span style="font-size:14px\;"><span style="font-family:arial\;">Complimentary meals</span></span></li>\n	<li><span style="font-size:14px\;"><span style="font-family:arial\;">Specific store giveaway&nbsp\;</span></span></li>\n	<li><span style="font-size:14px\;"><span style="font-family:arial\;">RAFFLE PRIZE MINIMUM VALUE: $25</span></span>&nbsp\;<span style="font-size:14px\;"><span style="font-family:arial\;">&#8203\;&amp\; up to what makes sense for your business </span></span></li>\n</ul>\n
LOCATION:LOCAL MEMBER BUSINESSES of the Quiet Resorts which includes businesses of Bethany Beach\, Clarksville\, Dagsboro\, Fenwick Island\, Frankford\, Millville\, Ocean View\, Roxana\, Selbyville\, and South Bethany.
UID:e.2126.28483
SEQUENCE:3
DTSTAMP:20260420T060612Z
URL:http://business.thequietresorts.com/events/details/spring-fling-2024-business-registration-28483
END:VEVENT

END:VCALENDAR
