BEGIN:VCALENDAR
VERSION:2.0
PRODID:-//ChamberMaster//Event Calendar 2.0//EN
METHOD:PUBLISH
X-PUBLISHED-TTL:P3D
REFRESH-INTERVAL:P3D
CALSCALE:GREGORIAN
BEGIN:VEVENT
DTSTART;VALUE=DATE:20230414
DTEND;VALUE=DATE:20230423
TRANSP:TRANSPARENT
X-MICROSOFT-CDO-ALLDAYEVENT:TRUE
SUMMARY:Spring Fling 2023: Shop\, Dine\, Stay\, & Play
DESCRIPTION:Join the Bethany-Fenwick Area Chamber of Commerce for Spring Fling 2023 on April 14 - 22. Shop\, dine\, stay\, and play at participating businesses in the Quiet Resorts for a chance to win in-store and Grand Prize raffles\, including a $500 Visa Gift Card!  This initiative is designed to support the local businesses in the Quiet Resorts which includes businesses of Bethany Beach\, Clarksville\, Dagsboro\, Fenwick Island\, Frankford\, Millville\, Ocean View\, Roxana\, Selbyville\, and South Bethany.  \n\n \nBe sure to follow The Quiet Resorts on social media for updates on the event and the participating businesses.\n\n\n\nBethany Beach Participating Businesses\n\n\n	Bethany Beach Books - 99 Garfield Pkwy\, Bethan Beach\, DE 19930\n\n	\n		Shop in-store for special Spring Fling promotions\, a chance to win the grand prize raffle\, and a chance to win a Bethany Beach Books gift basket valued at $100! \n		Open 7 days a week from 9am - 7pm\, with extended hours on weekends\n	\n	\n	Bethany Blues BBQ - 6 N Pennsylvania Ave\, Bethany Beach\, DE 19930\n	\n		Dine at Bethany Blues during Spring Fling for a chance to win the grand prize raffle and a chance to win a $50 Bethany Blues BBQ Gift Card! \n		Open for dinner Monday - Friday\, 11:30am - 10pm on Saturday\, and 10am - 9pm on Sunday\n	\n	\n	DiFebo's Market - 788 Garfield Pkwy\, Bethany Beach\, DE 19930\n	\n		Shop at DiFebo's Market during Spring Fling for a chance to win the grand prize raffle and for a chance to win a DiFebo's Market gift basket that includes a $50 DiFebo's Market giftcard for a total basket value of $131!\n		Open 8am - 6pm Monday through Thursday\, 8am - 8pm Friday and Saturday\, and 8am - 5pm on Sunday\n	\n	\n	DONNAMARIE Designs - Etsy.com/shop/DONNAMARIEDesignsHJ\n	\n		Get 10% off when you shop online during Spring Fling\, for a chance to win a Labradorite/GF/SS bracelet valued at $125\, and for a chance to win the grand prize raffle!\n		Open 24/7 via online Etsy shop \n	\n	\n	Fells Point Surf Co. - 114 Garfield Pkwy\, Bethany Beach\, DE 19930\n	\n		Shop in-store for a chance to win the grand prize raffle\, a chance to win a Fells Point Surf Co. Gift Pack valued at $50\, and to receive a complimentary gift for purchases over $50!\n		Open 10am - 5pm Mondays\, Thursdays\, and Sundays\, and 10am - 6pm Friday and Saturday\n	\n	\n	Heidaway Bethany Beach - 97B Garfield Pkwy\, Bethany Beach\, DE 19930\n	\n		Stop by Heidaway for Spring Fling Happy Hour specials from 1pm - 5pm\, a chance to win the grand prize raffle\, and a chance to win a $50 Heidaway gift card!\n		Open Thursdays and Fridays from 11am - 10pm\, Saturdays from 10am - 10pm\, and Sundays from 10am - 9pm\n	\n	\n	Japanesque - 16 N Pennsylvania Ave\, Bethany Beach\, DE 19930\n	\n		Shop in-store for special Spring Fling discounts and a chance to win the grand prize raffle!\n		Open 11am - 4pm Thursday through Monday\n	\n	\n	Sandy Pawz - 8 N Pennsylvania Ave\, Bethany Beach\, DE 19930 \n	\n		Shop in-store for a chance to win the grand prize raffle and a chance to win a Sandy Pawz gift basket valued at $50!\n		Open 10am - 3pm Friday through Sunday\, and weekdays depending on the weather\n	\n	\n	South Coastal Library - 43 Kent Ave\, Bethany Beach\, DE 19930\n	\n		Sign up for a library card during Spring Fling for a chance to win the grand prize raffle!\n		Open 10am - 6pm Monday and Tuesday\, 10am - 7pm Wednesday and Thursday\, 10am - 5pm on Friday\, and 10am - 3pm on Saturday\n	\n	\n	Tangerine Goods Bethany Beach - 101 Garfield Pkwy Store #8\, Bethany Beach\, DE 19930\n	\n		Shop in-store for a chance to win the grand prize raffle\, a chance to win a Tangerine Goods gift basket\, and for a complimentary gift with purchases over $50!\n		Open 10am - 5pm Sunday and Monday\, 11am - 5pm Tuesday and Wednesday\, 10am - 6pm Thursday through Saturday\n	\n	\n	The Beach Life Gallery ft. Michael Orhelein - 100 Garfield Pkwy\, Bethany Beach\, DE 19930\n	\n		Shop in-store during Spring Fling for 10% off all pottery\, a chance to win the grand prize raffle\, and a chance to win a $50 Beach Life Gallery gift card!\n		Open 10am - 4pm Sunday and Monday\, 11am - 3pm Tuesday through Thursday\, and and 10am - 5pm Friday and Saturday\n	\n	\n	Tickled Pink Bethany Beach - 100 Garfield Pkwy #10\, Bethany Beach\, DE 19930\n	\n		Shop in-store during Spring Fling for 20% off any item\, a chance to win the grand prize raffle\, and a chance to win a $50 Tickled Pink gift card!\n		Open 10am - 4pm Friday\, Saturday\, and Sunday\n	\n	\n	Topsail Steamer - 98 Garfield Pkwy\, Bethany Beach\, DE 19930\n	\n		Shop in-store during Spring Fling to spin the Topsail Steamer prize wheel\, for a chance to win the grand prize raffle\, and for a chance to win a free seafood steam pot or $60 store credit! \n		Open 3pm - 7pm Monday through Friday\, and 12pm - 7pm Saturday\n	\n	\n\n\n\n\nDagsboro Participating Businesses\n\n\n	Art In Glass -  32177 Supont Blvd #6\, Dagsboro\, DE 19939\n\n	\n		Shop in-store during Spring Fling for a chance to win the grand prize raffle\, take a tour of the stained glass studio\, and for a chance to win a fused glass Buddha and flattened bottle cheese board valuing $50!\n		Open 12pm - 4pm Tuesday\, Wednesday\, Thursday\, and Saturday\, and 12pm - 6pm on Friday\n	\n	\n\n\n\nFenwick Island Participating Businesses\n\n\n	Body Double Swimwear - 1010 Coastal Hwy\, Fenwick Island\, DE 19944\n\n	\n		Shop in-store for a chance to win the grand prize raffle! \n		Open 10am - 4pm every day except Wednesday\n	\n	\n	Southern Exposure - 1003 Coastal Hwy\, Fenwick Island\, DE 19944\n	\n		Shop in-store for a chance to win the grand prize raffle! \n		Open 10am - 4pm Monday through Saturday and 11am - 4pm on Sunday\n	\n	\n\n\n\nMillville Participating Businesses\n\n\n	Banks Wines & Spirits - 38014 Town Center Dr\, Millville\, DE 19967\n\n	\n		Shop in-store for a chance to win the grand prize raffle and a chance to win a Banks Wines & Spirits gift box with swag and exclusive beers! \n		Open 9am - 9pm Monday through Thursday\, 9am - 10pm Friday and Saturday\, and 10am - 6pm Sunday \n	\n	\n	Fairway Hearing Center - 32566 Doc's Place Extension Unit 2\, Millville\, DE 19967\n	\n		 Shop in-store for a chance to win the grand prize raffle and for a chance to win Phonak Serenity Choice Ear Protection valued at $40!\n		Open 9am - 5pm Monday through Friday\n	\n	\n	Shaka Shack - 35308 Atlantic Ave\, Millville\, DE 19967\n	\n		Stop by Shaka Shack for daily specials during Spring Fling\, and for a chance to win the grand prize raffle!\n		Open 11am - 8pm Friday and Saturday\, and 11am - 7pm Tuesday\, Thursday\, and Sunday \n	\n	\n\n\n\nOcean View Participating Businesses\n\n\n	 Alni Body Care - www.alnibodycare.com\n\n	\n		Shop online for 10% off your purchase when you use code SPRINGFLING\, for a chance to win the grand prize raffle\, and for a chance to win an Alni Body Care bath & body gift bag valued at $85! \n		Open 24/7 via online shop\n	\n	\n	Bethany Brewing Co. - 38450 Hickman Rd\, Ocean View\, DE 19970\n	\n		Stop by Bethany Brewing during Spring Fling for a chance to win the grand prize raffle and for a chance to win a $50 Bethany Brewing gift card! \n		Open 3pm - 7pm Monday through Thursday\, 2pm - 9pm Friday\, 12pm - 9pm Saturday\, and 12pm - 6pm Sunday \n	\n	\n\n\n\nSouth Bethany Beach Participating Businesses\n\n\n	Made by Hand International Co-Op - 34444 Coastal Hwy #2\, Bethany Beach\, DE 19930 \n\n	\n		Shop in-store for a chance to win the grand prize raffle and for a chance to win a handcrafted wooden 'Thankful' decoration valued at $30!\n		Open 7 days a week from 10:30am - 5pm\n	\n	\n\n  \n\n\n\nRaffle Prize Drawings \n\n- In-store raffle prize drawings will take place at participating businesses on Monday\, April 24. \n\n- Grand prize raffle drawings will take place at the Chamber office on Tuesday\, April 25.\n\n- Must be 18 or older to participate in the raffle.\n\n- Grand prizes must be claimed by May 1st or they will be submitted for redrawing.
X-ALT-DESC;FMTTYPE=text/html:<span style="font-size:14px\;"><span style="font-family:arial\;"><span style="box-sizing: content-box\; clear: none\; content: normal\; direction: inherit\; empty-cells: show\; font-variant-numeric: inherit\; font-variant-east-asian: inherit\; font-stretch: inherit\; line-height: inherit\; margin: 0px\; max-height: none\; max-width: none\; min-height: initial\; min-width: initial\; opacity: 1\; outline-offset: 0px\; overflow: visible\; padding: 0px\; position: static\; resize: none\; table-layout: auto\; text-overflow: clip\; vertical-align: baseline\; visibility: inherit\; word-break: inherit\; overflow-wrap: inherit\; z-index: auto\; background-image: none\; background-position: initial\; background-size: initial\; background-repeat: initial\; background-attachment: initial\; background-origin: initial\; background-clip: initial\; border: none\; border-collapse: separate\; border-radius: 0px\; height: auto\; width: auto\; box-shadow: none\;"><span style="box-sizing: content-box\; clear: none\; content: normal\; direction: inherit\; empty-cells: show\; font-style: inherit\; font-variant: inherit\; font-weight: inherit\; font-stretch: inherit\; letter-spacing: inherit\; line-height: inherit\; margin: 0px\; max-height: none\; max-width: none\; min-height: initial\; min-width: initial\; opacity: 1\; outline-offset: 0px\; overflow: visible\; padding: 0px\; position: static\; resize: none\; table-layout: auto\; text-align: inherit\; text-indent: inherit\; text-overflow: clip\; text-transform: inherit\; vertical-align: baseline\; visibility: inherit\; white-space: inherit\; word-break: inherit\; word-spacing: inherit\; overflow-wrap: inherit\; z-index: auto\; background: none\; border: none\; border-collapse: separate\; border-radius: 0px\; height: auto\; width: auto\; box-shadow: none\;">Join the Bethany-Fenwick Area Chamber of Commerce for Spring Fling 2023 on April 14 - 22. Shop\, dine\, stay\, and play at participating businesses in the Quiet Resorts for a chance to win in-store and Grand Prize raffles\, including a $500 Visa Gift Card!&nbsp\; This initiative is designed to support the&nbsp\;<span style="box-sizing: content-box\; clear: none\; content: normal\; direction: inherit\; empty-cells: show\; font-style: inherit\; font-variant: inherit\; font-weight: bolder\; font-stretch: inherit\; letter-spacing: inherit\; line-height: inherit\; margin: 0px\; max-height: none\; max-width: none\; min-height: initial\; min-width: initial\; opacity: 1\; outline-offset: 0px\; overflow: visible\; padding: 0px\; position: static\; resize: none\; table-layout: auto\; text-align: inherit\; text-indent: inherit\; text-overflow: clip\; text-transform: inherit\; vertical-align: baseline\; visibility: inherit\; white-space: inherit\; word-break: inherit\; word-spacing: inherit\; overflow-wrap: inherit\; z-index: auto\; background: none\; border: none\; border-collapse: separate\; border-radius: 0px\; height: auto\; width: auto\; box-shadow: none\;">local businesses</span>&nbsp\;in the Quiet Resorts which includes businesses of&nbsp\;<span style="box-sizing: content-box\; clear: none\; content: normal\; direction: inherit\; empty-cells: show\; font-style: inherit\; font-variant: inherit\; font-weight: bolder\; font-stretch: inherit\; letter-spacing: inherit\; line-height: inherit\; margin: 0px\; max-height: none\; max-width: none\; min-height: initial\; min-width: initial\; opacity: 1\; outline-offset: 0px\; overflow: visible\; padding: 0px\; position: static\; resize: none\; table-layout: auto\; text-align: inherit\; text-indent: inherit\; text-overflow: clip\; text-transform: inherit\; vertical-align: baseline\; visibility: inherit\; white-space: inherit\; word-break: inherit\; word-spacing: inherit\; overflow-wrap: inherit\; z-index: auto\; background: none\; border: none\; border-collapse: separate\; border-radius: 0px\; height: auto\; width: auto\; box-shadow: none\;">Bethany Beach\, Clarksville\, Dagsboro\, Fenwick Island\, Frankford\, Millville\, Ocean View\, Roxana\, Selbyville\, and South Bethany.&nbsp\;&nbsp\;</span></span></span></span></span><br />\n<strong style="font-family: arial\; font-size: 14px\;">&nbsp\;</strong>\n<div><span style="background: none\; font-family: arial\; font-size: 14px\; box-sizing: content-box\; clear: none\; content: normal\; direction: inherit\; empty-cells: show\; font-style: inherit\; font-variant: inherit\; font-weight: inherit\; font-stretch: inherit\; letter-spacing: inherit\; line-height: inherit\; margin: 0px\; max-height: none\; max-width: none\; min-height: initial\; min-width: initial\; opacity: 1\; outline-offset: 0px\; overflow: visible\; padding: 0px\; position: static\; resize: none\; table-layout: auto\; text-align: inherit\; text-indent: inherit\; text-overflow: clip\; text-transform: inherit\; vertical-align: baseline\; visibility: inherit\; white-space: inherit\; word-break: inherit\; word-spacing: inherit\; overflow-wrap: inherit\; z-index: auto\; border: none\; border-collapse: separate\; border-radius: 0px\; height: auto\; width: auto\; box-shadow: none\;">Be sure to follow&nbsp\;<a href="https://www.facebook.com/thequietresorts" style="font: inherit\; box-sizing: content-box\; color: rgb(83\, 116\, 153)\; text-decoration-line: none\; transition: all 0.2s ease 0s\; background: none\; outline: none 0px\; -webkit-tap-highlight-color: rgba(0\, 0\, 0\, 0.3)\; inset: auto\; clear: none\; content: normal\; direction: inherit\; display: inline\; empty-cells: show\; float: none\; letter-spacing: inherit\; margin: 0px\; max-height: none\; max-width: none\; min-height: initial\; min-width: initial\; opacity: 1\; outline-offset: 0px\; overflow: visible\; padding: 0px\; position: static\; resize: none\; table-layout: auto\; text-align: inherit\; text-indent: inherit\; text-overflow: clip\; text-transform: inherit\; vertical-align: baseline\; visibility: inherit\; white-space: inherit\; word-break: inherit\; word-spacing: inherit\; overflow-wrap: break-word\; z-index: auto\; border: none\; border-collapse: separate\; border-radius: 0px\; height: auto\; width: auto\; box-shadow: none\;" target="_blank"><span style="box-sizing: content-box\; clear: none\; content: normal\; direction: inherit\; empty-cells: show\; font-style: inherit\; font-variant: inherit\; font-weight: bolder\; font-stretch: inherit\; letter-spacing: inherit\; line-height: inherit\; margin: 0px\; max-height: none\; max-width: none\; min-height: initial\; min-width: initial\; opacity: 1\; outline-offset: 0px\; overflow: visible\; padding: 0px\; position: static\; resize: none\; table-layout: auto\; text-align: inherit\; text-indent: inherit\; text-overflow: clip\; text-transform: inherit\; vertical-align: baseline\; visibility: inherit\; white-space: inherit\; word-break: inherit\; word-spacing: inherit\; overflow-wrap: inherit\; z-index: auto\; background: none\; border: none\; border-collapse: separate\; border-radius: 0px\; height: auto\; width: auto\; box-shadow: none\;">The Quiet Resorts</span></a>&nbsp\;on social media for updates on the event and the participating businesses.<br />\n<br />\n<span style="font-size:16px\;"><strong><u>Bethany Beach&nbsp\;Participating Businesses</u></strong></span></span></div>\n\n<ul>\n	<li><strong><span style="color:#0000FF\;">Bethany Beach Books</span> </strong>- 99 Garfield Pkwy\, Bethan Beach\, DE 19930\n\n	<ul>\n		<li>Shop in-store for special Spring Fling promotions\, a chance to win the grand prize raffle\, and a&nbsp\;chance to win a Bethany Beach Books gift basket valued at $100!&nbsp\;</li>\n		<li>Open 7 days a week from 9am - 7pm\, with extended hours on weekends</li>\n	</ul>\n	</li>\n	<li><span style="color:#0000FF\;"><strong>Bethany Blues BBQ</strong></span> - 6 N Pennsylvania Ave\, Bethany Beach\, DE 19930\n	<ul>\n		<li>Dine at Bethany Blues during Spring Fling for a chance to win the grand prize raffle and a chance to win a $50 Bethany Blues BBQ Gift Card!&nbsp\;</li>\n		<li>Open for dinner Monday - Friday\, 11:30am - 10pm on Saturday\, and 10am - 9pm on Sunday</li>\n	</ul>\n	</li>\n	<li><span style="color:#0000FF\;"><strong>DiFebo&#39\;s Market</strong></span> - 788 Garfield Pkwy\, Bethany Beach\, DE 19930\n	<ul>\n		<li>Shop at DiFebo&#39\;s Market during Spring Fling for a chance to win the grand prize raffle and for a chance to win a DiFebo&#39\;s Market gift basket that includes a $50 DiFebo&#39\;s Market giftcard for a total basket value of $131!</li>\n		<li>Open 8am - 6pm Monday through Thursday\, 8am - 8pm Friday&nbsp\;and Saturday\, and 8am - 5pm on Sunday</li>\n	</ul>\n	</li>\n	<li><span style="color:#0000FF\;"><strong>DONNAMARIE Designs</strong></span> - Etsy.com/shop/DONNAMARIEDesignsHJ\n	<ul>\n		<li>Get 10% off when you shop online during Spring Fling\, for a chance to win a Labradorite/GF/SS bracelet valued at $125\,&nbsp\;and for a chance to win the grand prize raffle!</li>\n		<li>Open 24/7 via online Etsy shop&nbsp\;</li>\n	</ul>\n	</li>\n	<li><strong><span style="color:#0000FF\;">Fells Point Surf Co.</span>&nbsp\;</strong>- 114 Garfield Pkwy\, Bethany Beach\, DE 19930\n	<ul>\n		<li>Shop in-store for a chance to win the grand prize raffle\, a chance to win a Fells Point Surf Co. Gift Pack valued at $50\, and to receive a complimentary gift for purchases over $50!</li>\n		<li>Open 10am - 5pm Mondays\, Thursdays\, and Sundays\, and 10am - 6pm Friday and Saturday</li>\n	</ul>\n	</li>\n	<li><strong><span style="color:#0000FF\;">Heidaway Bethany Beach</span> -&nbsp\;</strong>97B Garfield Pkwy\, Bethany Beach\, DE 19930\n	<ul>\n		<li>Stop by Heidaway for Spring Fling Happy Hour specials from 1pm - 5pm\, a chance to win the grand prize raffle\, and a chance to win&nbsp\;a $50 Heidaway gift card!</li>\n		<li>Open Thursdays and Fridays from 11am - 10pm\, Saturdays from 10am - 10pm\, and Sundays from 10am - 9pm</li>\n	</ul>\n	</li>\n	<li><strong><span style="color:#0000FF\;">Japanesque</span> -&nbsp\;</strong>16 N Pennsylvania Ave\, Bethany Beach\, DE 19930\n	<ul>\n		<li>Shop in-store for special Spring Fling discounts and a chance to win the grand prize raffle!</li>\n		<li>Open 11am - 4pm Thursday through Monday</li>\n	</ul>\n	</li>\n	<li><span style="color:#0000FF\;"><strong>Sandy Pawz</strong></span> - 8 N Pennsylvania Ave\, Bethany Beach\, DE 19930&nbsp\;\n	<ul>\n		<li>Shop in-store for a chance to win the grand prize raffle and a chance to win a Sandy Pawz gift basket valued at $50!</li>\n		<li>Open 10am - 3pm Friday through Sunday\, and weekdays depending on the weather</li>\n	</ul>\n	</li>\n	<li><span style="color:#0000FF\;"><strong>South Coastal Library</strong></span> - 43 Kent Ave\, Bethany Beach\, DE 19930\n	<ul>\n		<li>Sign up for a library card during Spring Fling for a chance to win the grand prize raffle!</li>\n		<li>Open 10am - 6pm Monday&nbsp\;and Tuesday\, 10am - 7pm Wednesday&nbsp\;and Thursday\, 10am - 5pm on Friday\, and 10am - 3pm on Saturday</li>\n	</ul>\n	</li>\n	<li><strong><span style="color:#0000FF\;">Tangerine Goods Bethany Beach</span> -&nbsp\;</strong>101 Garfield Pkwy Store #8\, Bethany Beach\, DE 19930\n	<ul>\n		<li>Shop in-store for a chance to win the grand prize raffle\, a chance to win a Tangerine Goods gift basket\, and for a complimentary gift with purchases over $50!</li>\n		<li>Open 10am - 5pm Sunday&nbsp\;and Monday\, 11am - 5pm Tuesday&nbsp\;and Wednesday\, 10am - 6pm Thursday through Saturday</li>\n	</ul>\n	</li>\n	<li><span style="color:#0000FF\;"><strong>The Beach Life Gallery ft.&nbsp\;Michael Orhelein</strong></span> - 100 Garfield Pkwy\, Bethany Beach\, DE 19930\n	<ul>\n		<li>Shop in-store during Spring Fling for 10% off all pottery\, a chance to win the grand prize raffle\, and a chance to win a $50 Beach Life Gallery gift card!</li>\n		<li>Open 10am - 4pm Sunday&nbsp\;and Monday\, 11am - 3pm Tuesday&nbsp\;through Thursday\, and and 10am - 5pm Friday&nbsp\;and Saturday</li>\n	</ul>\n	</li>\n	<li><strong><span style="color:#0000FF\;">Tickled Pink Bethany Beach</span> -&nbsp\;</strong>100 Garfield Pkwy #10\, Bethany Beach\, DE 19930\n	<ul>\n		<li>Shop in-store during Spring Fling for 20% off any item\, a chance to win the grand prize raffle\, and a chance to win a $50 Tickled Pink gift card!</li>\n		<li>Open 10am - 4pm&nbsp\;Friday\, Saturday\, and&nbsp\;Sunday</li>\n	</ul>\n	</li>\n	<li><strong><span style="color:#0000FF\;">Topsail Steamer</span> -&nbsp\;</strong>98 Garfield Pkwy\, Bethany Beach\, DE 19930\n	<ul>\n		<li>Shop in-store during Spring Fling to spin the Topsail Steamer prize wheel\, for a chance to win the grand prize raffle\, and for a chance to win a free seafood steam pot or $60 store credit!&nbsp\;</li>\n		<li>Open 3pm - 7pm Monday through Friday\, and 12pm - 7pm Saturday</li>\n	</ul>\n	</li>\n</ul>\n\n<div><br />\n<span style="font-size:16px\;"><strong style="font-family: arial\; font-size: 14px\;"><u>Dagsboro Participating Businesses</u></strong></span></div>\n\n<ul>\n	<li><span style="color:#0000FF\;"><strong>Art In&nbsp\;Glass</strong></span> -&nbsp\;&nbsp\;32177 Supont Blvd #6\, Dagsboro\, DE 19939\n\n	<ul>\n		<li>Shop in-store during Spring Fling for a chance to win the grand prize raffle\, take a tour of the stained glass studio\, and for a chance to win a fused glass Buddha and flattened bottle cheese board valuing $50!</li>\n		<li>Open 12pm - 4pm Tuesday\, Wednesday\, Thursday\, and Saturday\, and 12pm - 6pm on Friday</li>\n	</ul>\n	</li>\n</ul>\n<br />\n<span style="font-size:16px\;"><strong style="font-family: arial\; font-size: 14px\;"><u>Fenwick Island Participating Businesses</u></strong></span>\n\n<ul>\n	<li><strong><span style="color:#0000FF\;">Body Double Swimwear</span> -&nbsp\;</strong>1010 Coastal Hwy\, Fenwick Island\, DE 19944\n\n	<ul>\n		<li>Shop in-store for a chance to win the grand prize raffle!&nbsp\;</li>\n		<li>Open 10am - 4pm every day except Wednesday</li>\n	</ul>\n	</li>\n	<li><strong><span style="color:#0000FF\;">Southern Exposure</span>&nbsp\;-&nbsp\;</strong>1003 Coastal Hwy\, Fenwick Island\, DE 19944\n	<ul>\n		<li>Shop in-store for a chance to win the grand prize raffle!&nbsp\;</li>\n		<li>Open 10am - 4pm Monday through Saturday and 11am - 4pm on Sunday</li>\n	</ul>\n	</li>\n</ul>\n<br />\n<span style="font-size:16px\;"><strong style="font-family: arial\; font-size: 14px\;"><u>Millville Participating Businesses</u></strong></span>\n\n<ul>\n	<li><span style="color:#0000FF\;"><strong>Banks Wines &amp\; Spirits</strong></span> - 38014 Town Center Dr\, Millville\,&nbsp\;DE 19967\n\n	<ul>\n		<li>Shop in-store for a chance to win the grand prize raffle and a chance to win a Banks Wines &amp\; Spirits gift box with swag and exclusive beers!&nbsp\;</li>\n		<li>Open 9am - 9pm Monday through Thursday\, 9am - 10pm Friday and Saturday\, and 10am - 6pm Sunday&nbsp\;</li>\n	</ul>\n	</li>\n	<li><span style="color:#0000FF\;"><strong>Fairway Hearing Center</strong></span> - 32566 Doc&#39\;s Place Extension Unit 2\, Millville\, DE 19967\n	<ul>\n		<li>&nbsp\;Shop in-store for a chance to win the grand prize raffle and for a chance to win Phonak Serenity Choice Ear Protection valued at $40!</li>\n		<li>Open 9am - 5pm Monday through Friday</li>\n	</ul>\n	</li>\n	<li><span style="color:#0000FF\;"><strong>Shaka Shack</strong></span> - 35308 Atlantic Ave\, Millville\, DE 19967\n	<ul>\n		<li>Stop by Shaka Shack for daily specials during Spring Fling\, and for a chance to win the grand prize raffle!</li>\n		<li>Open 11am - 8pm Friday and Saturday\, and 11am - 7pm Tuesday\, Thursday\, and Sunday&nbsp\;</li>\n	</ul>\n	</li>\n</ul>\n<br />\n<span style="font-size:16px\;"><strong style="font-family: arial\; font-size: 14px\;"><u>Ocean View Participating Businesses</u></strong></span>\n\n<ul>\n	<li><strong>&nbsp\;<span style="color:#0000FF\;">Alni Body Care</span></strong> - www.alnibodycare.com\n\n	<ul>\n		<li>Shop online for 10% off your purchase when you use code SPRINGFLING\, for a chance to win the grand prize raffle\, and for a chance to win an Alni Body Care bath &amp\; body gift bag valued at $85!&nbsp\;</li>\n		<li>Open 24/7 via online shop</li>\n	</ul>\n	</li>\n	<li><strong><span style="color:#0000FF\;">Bethany Brewing Co.</span> -&nbsp\;</strong>38450 Hickman Rd\, Ocean View\, DE 19970\n	<ul>\n		<li>Stop by Bethany Brewing during Spring Fling for a chance to win the grand prize raffle and for a chance to win a $50 Bethany Brewing gift card!&nbsp\;</li>\n		<li>Open 3pm - 7pm Monday through Thursday\, 2pm - 9pm Friday\, 12pm - 9pm Saturday\, and 12pm - 6pm Sunday&nbsp\;</li>\n	</ul>\n	</li>\n</ul>\n<br />\n<span style="font-size:16px\;"><strong style="font-family: arial\; font-size: 14px\;"><u>South Bethany Beach Participating Businesses</u></strong></span>\n\n<ul>\n	<li><span style="color:#0000FF\;"><strong>Made by Hand International Co-Op</strong></span>&nbsp\;- 34444 Coastal Hwy #2\, Bethany Beach\, DE 19930&nbsp\;\n\n	<ul>\n		<li>Shop in-store for a chance to win the grand prize raffle and for a chance to win a handcrafted wooden &#39\;Thankful&#39\; decoration valued at $30!</li>\n		<li>Open 7 days a week from 10:30am - 5pm</li>\n	</ul>\n	</li>\n</ul>\n&nbsp\;&nbsp\;\n\n<div><br />\n<span style="background: none\; font-family: arial\; font-size: 14px\; box-sizing: content-box\; clear: none\; content: normal\; direction: inherit\; empty-cells: show\; font-style: inherit\; font-variant: inherit\; font-weight: inherit\; font-stretch: inherit\; letter-spacing: inherit\; line-height: inherit\; margin: 0px\; max-height: none\; max-width: none\; min-height: initial\; min-width: initial\; opacity: 1\; outline-offset: 0px\; overflow: visible\; padding: 0px\; position: static\; resize: none\; table-layout: auto\; text-align: inherit\; text-indent: inherit\; text-overflow: clip\; text-transform: inherit\; vertical-align: baseline\; visibility: inherit\; white-space: inherit\; word-break: inherit\; word-spacing: inherit\; overflow-wrap: inherit\; z-index: auto\; border: none\; border-collapse: separate\; border-radius: 0px\; height: auto\; width: auto\; box-shadow: none\;"><u>Raffle Prize Drawings</u>&nbsp\;<br />\n- In-store raffle prize drawings will take place at participating businesses on Monday\, April 24.&nbsp\;<br />\n- Grand prize raffle drawings will take place at the Chamber office on Tuesday\, April 25.<br />\n- Must be 18 or older to participate in the raffle.<br />\n- Grand prizes must be claimed by May 1st or they will be submitted for redrawing.</span></div>\n\n<div style="font-style: inherit\; font-variant: inherit\; font-stretch: inherit\; line-height: inherit\; box-sizing: content-box\; inset: auto\; clear: none\; content: normal\; direction: inherit\; empty-cells: show\; float: none\; letter-spacing: inherit\; margin: 0px\; max-height: none\; max-width: none\; min-height: initial\; min-width: initial\; opacity: 1\; outline-offset: 0px\; overflow: visible\; padding: 0px\; position: static\; resize: none\; table-layout: auto\; text-indent: inherit\; text-overflow: clip\; text-transform: inherit\; vertical-align: baseline\; visibility: inherit\; white-space: inherit\; word-break: inherit\; word-spacing: inherit\; overflow-wrap: inherit\; z-index: auto\; background: none\; border: none\; border-collapse: separate\; border-radius: 0px\; height: auto\; width: auto\; box-shadow: none\; list-style: outside none disc\;"><br />\n&nbsp\;&nbsp\;</div>\n
LOCATION:Local businesses of the Quiet Resorts which includes businesses of Bethany Beach\, Clarksville\, Dagsboro\, Fenwick Island\, Frankford\, Millville\, Ocean View\, Roxana\, Selbyville\, and South Bethany.
UID:e.2126.25327
SEQUENCE:3
DTSTAMP:20260421T041321Z
URL:http://business.thequietresorts.com/events/details/spring-fling-2023-shop-dine-stay-play-25327
END:VEVENT

END:VCALENDAR
