BEGIN:VCALENDAR
VERSION:2.0
PRODID:-//ChamberMaster//Event Calendar 2.0//EN
METHOD:PUBLISH
X-PUBLISHED-TTL:P3D
REFRESH-INTERVAL:P3D
CALSCALE:GREGORIAN
BEGIN:VEVENT
DTSTART:20240420T140000Z
DTEND:20240420T180000Z
X-MICROSOFT-CDO-ALLDAYEVENT:FALSE
SUMMARY:Spring Celebration at Coastal Wilds
DESCRIPTION:Saturday April 20th From 10am-2pm\n\n\nSpring is here so let's celebrate our beautiful planet and all living things on it this Earth Day! Featuring a Meet & Greet with Bluey! For real life!\n\nTicket Includes\n\n\n	All day access to walk around the facility\n	Access to the Kangaroo Walkabout\n	Special Animal Ambassador Encounters\n	Meet & Greet with Bluey! \n	LIVE Music from 10am-noon with Full Circle Duo!\n	Outdoor Games\n	Nature Craft Stations\n\n\nExtra Fun\n\n\n	Add-on Encounters available for an additional purchase (*subject to availability and animals mood)\n	Kona Ice Shaved lce Truck\n	Sand Art\n	Airbrush Tattoos\n\n\n And more!
X-ALT-DESC;FMTTYPE=text/html:<p><strong>Saturday April 20th From 10am-2pm</strong></p>\n\n<div>\n<p>Spring is here so let&#39\;s celebrate our beautiful planet and all living things on it this Earth Day! Featuring a Meet &amp\; Greet with&nbsp\;Bluey! For real life!</p>\n\n<p><u><strong>Ticket Includes</strong></u></p>\n\n<ul>\n	<li>All day access to walk around the facility</li>\n	<li>Access to the Kangaroo Walkabout</li>\n	<li>Special Animal Ambassador Encounters</li>\n	<li>Meet &amp\; Greet with Bluey!&nbsp\;</li>\n	<li>LIVE Music from 10am-noon with Full Circle Duo!</li>\n	<li>Outdoor Games</li>\n	<li>Nature Craft Stations</li>\n</ul>\n\n<p><u><strong>Extra Fun</strong></u></p>\n\n<ul>\n	<li>Add-on Encounters available for an additional purchase&nbsp\;(*subject to availability and animals mood)</li>\n	<li>Kona Ice Shaved lce Truck</li>\n	<li>Sand Art</li>\n	<li>Airbrush Tattoos</li>\n</ul>\n\n<p>&hellip\;And more!</p>\n</div>\n
LOCATION:Coastal Wilds 34215 Peppers Corner Rd. Frankford\, DE 19945
UID:e.2126.28775
SEQUENCE:3
DTSTAMP:20260420T060234Z
URL:http://business.thequietresorts.com/events/details/spring-celebration-at-coastal-wilds-28775
END:VEVENT

END:VCALENDAR
