BEGIN:VCALENDAR
VERSION:2.0
PRODID:-//ChamberMaster//Event Calendar 2.0//EN
METHOD:PUBLISH
X-PUBLISHED-TTL:P3D
REFRESH-INTERVAL:P3D
CALSCALE:GREGORIAN
BEGIN:VEVENT
DTSTART;VALUE=DATE:20240316
DTEND;VALUE=DATE:20240324
TRANSP:TRANSPARENT
X-MICROSOFT-CDO-ALLDAYEVENT:TRUE
SUMMARY:Spring 2024 Wild Wine Week at Banks
DESCRIPTION:Enjoy the arrival of Spring with our twice a year wine sale. Wild Wine Week at Banks Wines and Spirits is offering 20% off cases of wine\, both 750mL & 1.75L You can mix and match varietals but not sizes.\n\n\n\nCome in to the store and enjoy daily tastings Saturday(s) & Sunday 12-3pm & 3-6pm\, Monday - Friday 12-3pm & 4-7pm. Check out our website for tasting details. You can also order online and it will be ready for pick up within 2 hours after you order. Please\, NO SPECIAL ORDERS.
X-ALT-DESC;FMTTYPE=text/html:Enjoy the arrival of Spring with our twice a year wine sale. Wild Wine Week at Banks Wines and Spirits is offering <strong>20% off cases of wine\, both 750mL &amp\; 1.75L</strong> You can mix and match varietals but not sizes.<br />\n<br />\nCome in to the store and enjoy <strong>daily tastings Saturday(s) &amp\; Sunday 12-3pm &amp\; 3-6pm\, Monday - Friday 12-3pm &amp\; 4-7pm. </strong>Check out our website for tasting details. You can also order online and it will be ready for pick up within 2 hours after you order. Please\, <strong>NO SPECIAL ORDERS.</strong>
LOCATION:Banks Wines & Spirits 38014 Town Center Dr Millville\, DE 19967 In the Giant Grocery Store Shopping Center
UID:e.2126.28545
SEQUENCE:3
DTSTAMP:20260420T073934Z
URL:http://business.thequietresorts.com/events/details/spring-2024-wild-wine-week-at-banks-28545
END:VEVENT

END:VCALENDAR
