BEGIN:VCALENDAR
VERSION:2.0
PRODID:-//ChamberMaster//Event Calendar 2.0//EN
METHOD:PUBLISH
X-PUBLISHED-TTL:P3D
REFRESH-INTERVAL:P3D
CALSCALE:GREGORIAN
BEGIN:VEVENT
DTSTART;VALUE=DATE:20231011
DTEND;VALUE=DATE:20231119
TRANSP:TRANSPARENT
X-MICROSOFT-CDO-ALLDAYEVENT:TRUE
SUMMARY:Sponsorship Opportunities Open: 2nd Annual Festival of Trees at Millville Boardwalk
DESCRIPTION:After an incredibly successful first year\, the Millville Boardwalk Festival of Trees is returning for a second season!  Last year\, Millville Boardwalk hosted over 50 trees\, sponsored and decorated by 54 local businesses and families.  The generosity of the local community in supporting the event helped raise over $4500 in donations to help local families in need during the holidays\, facilitated by Lord Baltimore Elementary School.\n\n\n\nFor the 2nd Annual Festival of Trees\, Millville Boardwalk is again partnering with Lord Baltimore Elementary School to help local families celebrate an incredibly joyous holiday season.  The Enchanted Forest of Trees is doubling in size this year\, with 100 trees available for sponsorship!  Trees will be up at Millville Boardwalk November 18th through January 3rd. \n\n\n\nThere are two pricing tiers\, similar to last year:\n\n \n\n$200/Tree - "Decorate Yourself"\n\n	Includes one tree for the entire holiday season that your team will decorate. \n	Logo signage placed at tree\, sponsor mentions on all marketing materials\, socials\, website.\n	An invitation for you and your team to our decorating party event on 11/18.\n	Millville Boardwalk appreciation pack including free ice cream coupons\, golf tokens\, and more!\n\n \n\n$325/Tree - "We Decorate For You" Tree\n\n	Includes one tree for the entire holiday season that we will decorate and light for you. \n	Logo signage placed at tree\, sponsor mentions on all marketing materials\, socials\, website.\n	An invitation for you and your team to our decorating party event on 11/18\n	Millville Boardwalk appreciation pack including free ice cream coupons\, golf tokens\, and more!\n\n  \n\nClick here for the sponsorship sign up sheet!.  If you are interested in sponsoring a tree or trees this season\, please email Roger Marin at roger@millvilleboardwalk.com or print and fill out the form and drop off at Agape Creamery anytime.   \n\n \n\nDonations payments will be invoiced online or can be paid via cash or check at Agape Creamery with your completed form.   \n\n\n\nThank you for your support!
X-ALT-DESC;FMTTYPE=text/html:After an incredibly successful first year\, the Millville Boardwalk Festival of Trees is returning for a second season!&nbsp\; Last year\, Millville Boardwalk hosted over 50 trees\, sponsored and decorated by 54 local businesses and families.&nbsp\; The generosity of the local community in supporting the event helped raise over $4500 in donations to help local families in need during the holidays\, facilitated by Lord Baltimore Elementary School.<br />\n<br />\nFor the 2nd Annual Festival of Trees\, Millville Boardwalk is again partnering with Lord Baltimore Elementary School to help local families celebrate an incredibly joyous holiday season.&nbsp\; The Enchanted Forest of Trees is doubling in size this year\, with 100 trees available for sponsorship!&nbsp\; Trees will be up at Millville Boardwalk November 18th through January 3rd.&nbsp\;<br />\n<br />\nThere are two pricing tiers\, similar to last year:<br />\n&nbsp\;<br />\n$200/Tree - &quot\;Decorate Yourself&quot\;\n<ul>\n	<li>Includes one tree for the entire holiday&nbsp\;season that your team will decorate.&nbsp\;</li>\n	<li>Logo signage placed at tree\, sponsor mentions on all marketing materials\, socials\, website.</li>\n	<li>An invitation for you and your team to our decorating party event on 11/18.</li>\n	<li>Millville Boardwalk appreciation pack including free ice cream coupons\, golf tokens\, and more!</li>\n</ul>\n&nbsp\;<br />\n$325/Tree - &quot\;We Decorate For You&quot\; Tree\n<ul>\n	<li>Includes one tree for the entire holiday&nbsp\;season that we will decorate and light for you.&nbsp\;</li>\n	<li>Logo signage placed at tree\, sponsor mentions on all marketing materials\, socials\, website.</li>\n	<li>An invitation for you and your team to our decorating party event on 11/18</li>\n	<li>Millville Boardwalk appreciation pack including free ice cream coupons\, golf tokens\, and more!</li>\n</ul>\n&nbsp\;&nbsp\;<br />\n<a href="https://chambermaster.blob.core.windows.net/userfiles/UserFiles/chambers/2126/File/FestivalofTrees2023.pdf">Click here</a>&nbsp\;for the sponsorship sign up sheet!.&nbsp\; If you are interested in sponsoring a tree or trees this season\, please email Roger Marin at roger@millvilleboardwalk.com or print and fill out the form and drop off at Agape Creamery anytime.&nbsp\; &nbsp\;<br />\n&nbsp\;<br />\nDonations payments will be invoiced online or can be paid via cash or check at Agape Creamery with your completed form.&nbsp\; &nbsp\;<br />\n<br />\nThank you for your support<font face="calibri\, sans-serif"><span style="font-size: 14.6667px\;">!</span></font>
LOCATION:Millville Boardwalk & Agape Creamery 35287 Atlantic Ave. Millville\, DE 19967
UID:e.2126.27020
SEQUENCE:3
DTSTAMP:20260420T170345Z
URL:http://business.thequietresorts.com/events/details/sponsorship-opportunities-open-2nd-annual-festival-of-trees-at-millville-boardwalk-27020
END:VEVENT

END:VCALENDAR
