BEGIN:VCALENDAR
VERSION:2.0
PRODID:-//ChamberMaster//Event Calendar 2.0//EN
METHOD:PUBLISH
X-PUBLISHED-TTL:P3D
REFRESH-INTERVAL:P3D
CALSCALE:GREGORIAN
BEGIN:VEVENT
DTSTART;VALUE=DATE:20240508
DTEND;VALUE=DATE:20240609
TRANSP:TRANSPARENT
X-MICROSOFT-CDO-ALLDAYEVENT:TRUE
SUMMARY:Sponsorship Opportunities for Sussex Academy Summer Social
DESCRIPTION:Sussex Academy is now accepting sponsors for the 2024 Summer Social.\n\n\n\nSEAHAWK SUPPORT: $500\n\n2 event tickets\n\nPrint recognition at the event\n\n\n\nFEATHER OUR NEST: $1000\n\n4 event tickets\n\nPrint and digital placement at the event\n\nSA apparel item of choice\n\n\n\nSA SCHOLAR: $2500\n\nAdvance promotion via social media\n\n6 tickets to the event\n\n6 cash bar tickets\n\nSA apparel item of choice\n\nPrint and digital placement at the event\n\nVerbal recognition at the event
X-ALT-DESC;FMTTYPE=text/html:Sussex Academy is now accepting sponsors for the 2024 Summer Social.<br />\n<br />\nSEAHAWK SUPPORT: $500<br />\n2 event tickets<br />\nPrint recognition at the event<br />\n<br />\nFEATHER OUR NEST: $1000<br />\n4 event tickets<br />\nPrint and digital placement at the event<br />\nSA apparel item of choice<br />\n<br />\nSA SCHOLAR: $2500<br />\nAdvance promotion via social media<br />\n6 tickets to the event<br />\n6 cash bar tickets<br />\nSA apparel item of choice<br />\nPrint and digital placement at the event<br />\nVerbal recognition at the event
LOCATION:Online
UID:e.2126.29299
SEQUENCE:3
DTSTAMP:20260420T043410Z
URL:http://business.thequietresorts.com/events/details/sponsorship-opportunities-for-sussex-academy-summer-social-29299
END:VEVENT

END:VCALENDAR
