BEGIN:VCALENDAR
VERSION:2.0
PRODID:-//ChamberMaster//Event Calendar 2.0//EN
METHOD:PUBLISH
X-PUBLISHED-TTL:P3D
REFRESH-INTERVAL:P3D
CALSCALE:GREGORIAN
BEGIN:VEVENT
DTSTART:20200223T180000Z
DTEND:20200224T010000Z
X-MICROSOFT-CDO-ALLDAYEVENT:FALSE
SUMMARY:Spaghetti Dinner & Fund Raiser for Turner Sydrome
DESCRIPTION:Spaghetti Dinner & Raffle for Charity\n\nHosted by The Salted Rim\n \n\nSupport the Turner Syndrome Foundation's mission to advocate for women and\n\ngirls who have a rare genetic disorder.\n\n\n\nSunday\, February 23\n\n1:00 pm - 8:00 pm\n\n \n\nAdults - $11.99\n\nKids (under 10) - $6.99\n\n\n\nMenu:\n\nSmall Caesar Salad\n\nSpaghetti with Tomato Sauce\n\nGarlic Bread\n\nSoda\, Coffee\, Tea\n\nMeatballs (2) - $3.00\n\n\n\nAvailable TO GO for same price\n\nFirst Come\, First Serve Dining in the Train or Pub\n\n\n\n50/50 Raffle\, Silent Auction\, Bake Sale\n\nLive Music:  Taylor Knox 2-5pm\n\n\n\nTo purchase tickets ahead of time visit:  https://www.eventbrite.com/e/turner-syndrome-spaghetti-dinner-fundraiser-tickets-93379844629\n\n \nFor more information about the Turner Syndrome Foundation visit www.TSFUSA.org.
X-ALT-DESC;FMTTYPE=text/html:<div style="text-align: center\;"><span style="font-family: arial\;"><span style="color: rgb(255\, 0\, 0)\;"><span style="font-size: 14px\;"><strong>Spaghetti Dinner &amp\; Raffle for Charity<br />\nHosted by The Salted Rim</strong></span></span></span></div>\n&nbsp\;\n\n<div style="text-align: center\;"><span style="font-family: arial\;"><span style="font-size: 14px\;">Support the Turner Syndrome Foundation&#39\;s mission to advocate for women and<br />\ngirls who have a rare genetic disorder.</span></span></div>\n\n<div style="text-align: center\;"><br />\n<span style="font-family: arial\;"><span style="font-size: 14px\;"><strong><span style="color: rgb(51\, 51\, 51)\; background-color: rgb(255\, 255\, 255)\;">Sunday\, February 23</span><br />\n<span style="color: rgb(51\, 51\, 51)\; background-color: rgb(255\, 255\, 255)\;">1:00 pm - 8:00 pm</span></strong></span></span><br />\n&nbsp\;</div>\n\n<div><span style="font-family: arial\;"><span style="font-size: 14px\;"><span style="color: rgb(51\, 51\, 51)\; background-color: rgb(255\, 255\, 255)\;">Adults - $11.99<br />\nKids (under 10) - $6.99<br />\n<br />\n<strong>Menu:</strong></span><br />\n<span style="color: rgb(51\, 51\, 51)\; background-color: rgb(255\, 255\, 255)\;">Small Caesar Salad<br />\nSpaghetti with Tomato Sauce<br />\nGarlic Bread<br />\nSoda\, Coffee\, Tea<br />\nMeatballs (2) - $3.00<br />\n<br />\nAvailable TO GO for same price<br />\nFirst Come\, First Serve Dining in the Train or Pub<br />\n<br />\n50/50 Raffle\, Silent Auction\, Bake Sale<br />\nLive Music:&nbsp\; Taylor Knox 2-5pm</span><br />\n<br />\n<span style="color: rgb(51\, 51\, 51)\; background-color: rgb(255\, 255\, 255)\;">To purchase tickets ahead of time visit:&nbsp\;&nbsp\;<a href="https://www.eventbrite.com/e/turner-syndrome-spaghetti-dinner-fundraiser-tickets-93379844629">https://www.eventbrite.com/e/turner-syndrome-spaghetti-dinner-fundraiser-tickets-93379844629</a></span></span></span><br />\n&nbsp\;</div>\n<span style="font-family: arial\;">For more information about the Turner Syndrome Foundation visit www.TSFUSA.org.</span><br />\n<br />\n<br />\n&nbsp\;
LOCATION:The Salted Rim 27 Atlantic Avenue Ocean View\, DE 19970 302-537-7373
UID:e.2126.20160
SEQUENCE:3
DTSTAMP:20260426T020608Z
URL:http://business.thequietresorts.com/events/details/spaghetti-dinner-fund-raiser-for-turner-sydrome-20160
END:VEVENT

END:VCALENDAR
