BEGIN:VCALENDAR
VERSION:2.0
PRODID:-//ChamberMaster//Event Calendar 2.0//EN
METHOD:PUBLISH
X-PUBLISHED-TTL:P3D
REFRESH-INTERVAL:P3D
CALSCALE:GREGORIAN
BEGIN:VEVENT
DTSTART:20221001T160000Z
DTEND:20221001T193000Z
X-MICROSOFT-CDO-ALLDAYEVENT:FALSE
SUMMARY:Southern Delaware Wine\, Food and Music Festival (SoDEL Fest)
DESCRIPTION:Southern Delaware Wine\, Food and Music Festival (SoDEL Fest) Date: Saturday\, October 1\, 2022 - 12:00-3:30pm Spend a great fall day enjoying specialty culinary delights and refreshing beverages as you listen to great tunes and peruse our auction items. The SoDEL Fest is widely known for unique culinary experiences\, award winning chefs\, and winemakers from around the world. But it's so much more than an amazingly indulgent day of wine\, food & music. It's a celebration of life\, laughter\, friendship and togetherness that pours each years proceeds into local non-profits doing important work to strengthen our community. Tickets includes all you can eat & drink: 25+ Restaurants\; 75+ Wines\, craft beers and cocktails\; 4 amazing bands\; Chef Throwdown HoDown\; Silent Auction\; Wine Wall\; AND other surprises.
X-ALT-DESC;FMTTYPE=text/html:<span style="font-size:14px\;"><span style="font-family:arial\;">Southern Delaware Wine\, Food and Music Festival (SoDEL Fest) Date: Saturday\, October 1\, 2022 - 12:00-3:30pm Spend a great fall day enjoying specialty culinary delights and refreshing beverages as you listen to great tunes and peruse our auction items. The SoDEL Fest is widely known for unique culinary experiences\, award winning chefs\, and winemakers from around the world. But it&rsquo\;s so much more than an amazingly indulgent day of wine\, food &amp\; music. It&rsquo\;s a celebration of life\, laughter\, friendship and togetherness that pours each years proceeds into local non-profits doing important work to strengthen our community. Tickets includes all you can eat &amp\; drink: 25+ Restaurants\; 75+ Wines\, craft beers and cocktails\; 4 amazing bands\; Chef Throwdown HoDown\; Silent Auction\; Wine Wall\; AND other surprises.</span></span>
LOCATION:The Covered Bridge at Hopkins Heartland 30249 Fisher Road Lewes\, DE
UID:e.2126.23754
SEQUENCE:3
DTSTAMP:20260421T173716Z
URL:http://business.thequietresorts.com/events/details/southern-delaware-wine-food-and-music-festival-sodel-fest-23754
END:VEVENT

END:VCALENDAR
