BEGIN:VCALENDAR
VERSION:2.0
PRODID:-//ChamberMaster//Event Calendar 2.0//EN
METHOD:PUBLISH
X-PUBLISHED-TTL:P3D
REFRESH-INTERVAL:P3D
CALSCALE:GREGORIAN
BEGIN:VEVENT
DTSTART;VALUE=DATE:20210918
DTEND;VALUE=DATE:20211018
TRANSP:TRANSPARENT
X-MICROSOFT-CDO-ALLDAYEVENT:TRUE
SUMMARY:South East Sussex Ministerium CROP Hunger Walk
DESCRIPTION:CROP Hunger Walk 20221 - sponsored by SESM Join this community effort to fight hunger in our community and globally. Make your steps count and make a difference in this time of nutritional uncertainty. Walk safely individually or with friends with donations sponsored by friends\, family and neighbors during CROP season. Final walk and celebration Oct 17\,2021
X-ALT-DESC;FMTTYPE=text/html:<span style="font-size:14px\;"><span style="font-family:arial\;">CROP Hunger Walk 20221 - sponsored by SESM Join this community effort to fight hunger in our community and globally. Make your steps count and make a difference in this time of nutritional uncertainty. Walk safely individually or with friends with donations sponsored by friends\, family and neighbors during CROP season. Final walk and celebration Oct 17\,2021</span></span>
LOCATION:Walk during the season in your safe space. Walk Oct 17 at Our Lady of Guadeloupe Catholic Church\, Frankford\, DE
UID:e.2126.22874
SEQUENCE:3
DTSTAMP:20260424T135731Z
URL:http://business.thequietresorts.com/events/details/south-east-sussex-ministerium-crop-hunger-walk-22874
END:VEVENT

END:VCALENDAR
