BEGIN:VCALENDAR
VERSION:2.0
PRODID:-//ChamberMaster//Event Calendar 2.0//EN
METHOD:PUBLISH
X-PUBLISHED-TTL:P3D
REFRESH-INTERVAL:P3D
CALSCALE:GREGORIAN
BEGIN:VEVENT
DTSTART:20221016T183000Z
DTEND:20221016T210000Z
X-MICROSOFT-CDO-ALLDAYEVENT:FALSE
SUMMARY:South East Sussex Ministerium CROP Hunger Walk
DESCRIPTION:Let's walk together to stomp out hunger! Help us end hunger in Sussex County and around the world by earning donations with each step you take. 25% of your donation returns to support food pantries in Sussex County - the remainder distributed to help food/water issues wherever need documented. You can register online www.crophungerwalk.org/bethanybeachde Questions: call Rev. Eloise Henry-Gordy 443-235-3214
X-ALT-DESC;FMTTYPE=text/html:Let&#39\;s walk together to stomp out hunger! Help us end hunger in Sussex County and around the world by earning donations with each step you take. 25% of your donation returns to support food pantries in Sussex County - the remainder distributed to help food/water issues wherever need documented. You can register online www.crophungerwalk.org/bethanybeachde Questions: call Rev. Eloise Henry-Gordy 443-235-3214
LOCATION:Our Lady of Guadalupe Mission Church Dagsboro\, De
UID:e.2126.24205
SEQUENCE:3
DTSTAMP:20260421T161357Z
URL:http://business.thequietresorts.com/events/details/south-east-sussex-ministerium-crop-hunger-walk-10-16-2022-24205
END:VEVENT

END:VCALENDAR
