BEGIN:VCALENDAR
VERSION:2.0
PRODID:-//ChamberMaster//Event Calendar 2.0//EN
METHOD:PUBLISH
X-PUBLISHED-TTL:P3D
REFRESH-INTERVAL:P3D
CALSCALE:GREGORIAN
BEGIN:VEVENT
DTSTART:20220609T233000Z
DTEND:20220610T010000Z
X-MICROSOFT-CDO-ALLDAYEVENT:FALSE
SUMMARY:Soul Crackers
DESCRIPTION:The Soul Crackers is a '60s horn band that encompasses Memphis & Motown soul and features timeless songs by artists like Otis Redding\, Average White Band\, Martha & The Vandellas\, and Stevie Wonder among many others. This is the music that brings all ages and personalities together to a dance party. www.soulcrackers.net
X-ALT-DESC;FMTTYPE=text/html:<p>The Soul Crackers is a &lsquo\;60s horn band that encompasses Memphis &amp\; Motown soul and features timeless songs by artists like Otis Redding\, Average White Band\, Martha &amp\; The Vandellas\, and Stevie Wonder among many others. This is the music that brings all ages and personalities together to a dance party. www.soulcrackers.net</p>\n
LOCATION:Bethany Beach Bandstand Garfield Parkway & Boardwalk\, Bethany Beach
UID:e.2126.23697
SEQUENCE:3
DTSTAMP:20260421T222648Z
URL:http://business.thequietresorts.com/events/details/soul-crackers-23697
END:VEVENT

END:VCALENDAR
