BEGIN:VCALENDAR
VERSION:2.0
PRODID:-//ChamberMaster//Event Calendar 2.0//EN
METHOD:PUBLISH
X-PUBLISHED-TTL:P3D
REFRESH-INTERVAL:P3D
CALSCALE:GREGORIAN
BEGIN:VEVENT
DTSTART:20240327T203000Z
DTEND:20240327T220000Z
X-MICROSOFT-CDO-ALLDAYEVENT:FALSE
SUMMARY:Soter Vineyards Wine Class at Banks
DESCRIPTION:This class provides a hands-on introduction on Soter Vineyards. You'll explore a few styles of the Pinot Noir grape through sight\, smell\, and taste\, while also gaining the basic skills to describe these exquisite wines accurately\, and make food and wine pairings.\n\n\n\nThis class will be presented by Kurt Johnson\, Soter Vineyards Director of Global Sales. Click on his name for a full Bio.\n\n\n\nThe following wines will be sampled\, along with a charcuterie tray:\n\n	Planet Oregon Rose Bubbly\n	Planet Oregon Pinot Noir\n	Soter Estate Pinot Noir\n	Soter "Mineral Spring" Pinot Noir\n\nLimited seating. Tickets are $40.
X-ALT-DESC;FMTTYPE=text/html:This class provides a hands-on introduction on Soter Vineyards. You&#39\;ll explore a few styles of the Pinot Noir grape through sight\, smell\, and taste\, while also gaining the basic skills to describe these exquisite wines accurately\, and make food and wine pairings.<br />\n<br />\nThis class will be presented by <a href="https://www.sotervineyards.com/community#sales">Kurt Johnson</a>\, Soter Vineyards Director of Global Sales. Click on his name for a full Bio.<br />\n<br />\nThe following wines will be sampled\, along with a charcuterie tray:\n<ul>\n	<li>Planet Oregon Rose Bubbly</li>\n	<li>Planet Oregon Pinot Noir</li>\n	<li>Soter Estate Pinot Noir</li>\n	<li>Soter &quot\;Mineral Spring&quot\; Pinot Noir</li>\n</ul>\n<span style="background-color:rgb(255\, 255\, 255)\; color:rgb(51\, 51\, 51)\; font-family:sans-serif\,arial\,verdana\,trebuchet ms\; font-size:13px">Limited seating. Tickets are $40.</span>
LOCATION:The Vault @ Banks Wines and Spirits 38014 Town Center Dr. Millville\, DE 19967 *Located in the Giant Grocery Store Shopping Center on 26
UID:e.2126.28546
SEQUENCE:3
DTSTAMP:20260420T073934Z
URL:http://business.thequietresorts.com/events/details/soter-vineyards-wine-class-at-banks-28546
END:VEVENT

END:VCALENDAR
