BEGIN:VCALENDAR
VERSION:2.0
PRODID:-//ChamberMaster//Event Calendar 2.0//EN
METHOD:PUBLISH
X-PUBLISHED-TTL:P3D
REFRESH-INTERVAL:P3D
CALSCALE:GREGORIAN
BEGIN:VEVENT
DTSTART:20230510T200000Z
DTEND:20230510T210000Z
X-MICROSOFT-CDO-ALLDAYEVENT:FALSE
SUMMARY:Sorella Amore Grand Opening & Ribbon Cutting
DESCRIPTION:Join the Chamber staff in celebrating the Grand Opening of Sorella Amore with a ribbon cutting on Wednesday\, May 10\, 2023!  The celebration begins at 4:00pm\, with the ribbon to be cut at 4:30pm.  Refreshments will be provided!\n\n\n\nhttps://www.shopsorellaamore.com/
X-ALT-DESC;FMTTYPE=text/html:<span style="color: rgb(51\, 51\, 51)\; font-family: sans-serif\, Arial\, Verdana\, &quot\;Trebuchet MS&quot\;\; font-size: 13px\; background-color: rgb(255\, 255\, 255)\;">Join the Chamber staff in celebrating the Grand Opening of Sorella Amore with a ribbon cutting on Wednesday\, May 10\, 2023!&nbsp\; The celebration begins at 4:00pm\, with the ribbon to be cut at 4:30pm.&nbsp\; Refreshments will be provided!</span><br />\n<br />\n<span style="font-size: 13px\;">https://www.shopsorellaamore.com/</span><br />\n&nbsp\;
LOCATION:Sorella Amore 32630 Cedar Dr Millville DE 19967
UID:e.2126.25553
SEQUENCE:3
DTSTAMP:20260421T040941Z
URL:http://business.thequietresorts.com/events/details/sorella-amore-grand-opening-ribbon-cutting-25553
END:VEVENT

END:VCALENDAR
