BEGIN:VCALENDAR
VERSION:2.0
PRODID:-//ChamberMaster//Event Calendar 2.0//EN
METHOD:PUBLISH
X-PUBLISHED-TTL:P3D
REFRESH-INTERVAL:P3D
CALSCALE:GREGORIAN
BEGIN:VEVENT
DTSTART:20230924T140000Z
DTEND:20230924T200000Z
X-MICROSOFT-CDO-ALLDAYEVENT:FALSE
SUMMARY:Sorella Amore Gift Boutique Fall Open House
DESCRIPTION:Join us for our second annual Fall Open House!  Gifts\, shopping\, DIY studio\, free fall craft for the kiddos! Cocktails & mocktails for the adults!!!
X-ALT-DESC;FMTTYPE=text/html:Join us for our second annual Fall Open House!&nbsp\; Gifts\, shopping\, DIY studio\, free fall craft for the kiddos! Cocktails &amp\; mocktails for the adults!!!
LOCATION:32630 Cedar Drive Millville\, DE 19967 Park in Back and use door with pink wreath.
UID:e.2126.26936
SEQUENCE:3
DTSTAMP:20260420T195833Z
URL:http://business.thequietresorts.com/events/details/sorella-amore-gift-boutique-fall-open-house-09-24-2023-26936
END:VEVENT

END:VCALENDAR
