BEGIN:VCALENDAR
VERSION:2.0
PRODID:-//ChamberMaster//Event Calendar 2.0//EN
METHOD:PUBLISH
X-PUBLISHED-TTL:P3D
REFRESH-INTERVAL:P3D
CALSCALE:GREGORIAN
BEGIN:VEVENT
DTSTART:20230803T230000Z
DTEND:20230804T020000Z
X-MICROSOFT-CDO-ALLDAYEVENT:FALSE
SUMMARY:Sons of Mystro
DESCRIPTION:ADMISSION: FREE\n\nBorn in South Florida to a Jamaican father and Barbadian mother\, Malcolm\, 23\, and his 20-year-old brother\, Umoja\, learned to play the violin through South Florida's public school system and attended Dillard High School for the Performing Arts.\n\nTogether\, these brothers are Sons of Mystro.\n\nThey use their violins to interpret reggae classics\, American pop songs and their own creations accompanied by a DJ & a drummer. They are winners of the Emerging Artist under 21years old award at IRAWMA (International Reggae and World Music Awards).\n\nTheir debut recording\, "Reggae Strings" is available now wherever music is streamed or sold Mentored by Black Violin\, these artists' stars are on the rise.
X-ALT-DESC;FMTTYPE=text/html:<h6>ADMISSION: FREE</h6>\n\n<p>Born in South Florida to a Jamaican father and Barbadian mother\, Malcolm\, 23\, and his 20-year-old brother\, Umoja\, learned to play the violin through South Florida&rsquo\;s public school system and attended Dillard High School for the Performing Arts.</p>\n\n<p>Together\, these brothers are Sons of Mystro.</p>\n\n<p>They use their violins to interpret reggae classics\, American pop songs and their own creations accompanied by a DJ &amp\; a drummer. They are winners of the Emerging Artist under 21years old award at IRAWMA (International Reggae and World Music Awards).</p>\n\n<p>Their debut recording\, &ldquo\;Reggae Strings&rdquo\; is available now wherever music is streamed or sold Mentored by Black Violin\, these artists&rsquo\; stars are on the rise.</p>\n
LOCATION:Freeman Arts Pavilion a program of the Joshua M. Freeman Foundation is a champion of the arts on Delmarva\, providing diverse arts performances as well as arts access programs for local schools and the community at large. From June-September the Freeman Arts Pavilion is an open-air performance space showcasing music\, dance\, comedy\, theater\, children's programs\, and free events.
UID:e.2126.26114
SEQUENCE:3
DTSTAMP:20260420T230606Z
URL:http://business.thequietresorts.com/events/details/sons-of-mystro-26114
END:VEVENT

END:VCALENDAR
