BEGIN:VCALENDAR
VERSION:2.0
PRODID:-//ChamberMaster//Event Calendar 2.0//EN
METHOD:PUBLISH
X-PUBLISHED-TTL:P3D
REFRESH-INTERVAL:P3D
CALSCALE:GREGORIAN
BEGIN:VEVENT
DTSTART:20240613T223000Z
DTEND:20240614T010000Z
X-MICROSOFT-CDO-ALLDAYEVENT:FALSE
SUMMARY:Sock Hop Homicide: Comedy Murder Mystery Dinner at Dickens Parlour
DESCRIPTION:Take a trip back to 1957 to Rydell High School's annual dance competition\, which has been selected by TV's "National Bandstand" to be broadcast all over the country! And super "slickster" Mr. Johnny Fontaine himself is coming to host the show! But Johnny has a dark secret that might keep him from making it to the final credits. Break out your Elvis records\, cap guns\, transistor radios and Viewfinders for an evening of Audience Interactive comedy that will have all the hipsters rockin'!\n\nMENU\n\nRoasted quarter of a Chicken served with mashed potatoes\, gravy\, and green beans
X-ALT-DESC;FMTTYPE=text/html:<p><span style="color:rgb(36\, 36\, 36)">Take a trip back to 1957 to Rydell High School&rsquo\;s annual dance competition\, which has been selected by TV&rsquo\;s &ldquo\;National Bandstand&rdquo\; to be broadcast all over the country! And super &ldquo\;slickster&rdquo\; Mr. Johnny Fontaine himself is coming to host the show! But Johnny has a dark secret that might keep him from making it to the final credits.&nbsp\;Break out your Elvis records\, cap guns\, transistor radios and Viewfinders for an evening of Audience Interactive comedy that will have all the hipsters rockin&#39\;!</span></p>\n\n<p><strong><u>MENU</u></strong></p>\n\n<p><span style="color:rgb(36\, 36\, 36)">Roasted quarter of a Chicken served with mashed potatoes\, gravy\, and green beans</span></p>\n
LOCATION:Dickens Parlour Theatre 31810 Good Earth Lane Ocean View\, DE 19970
UID:e.2126.28506
SEQUENCE:3
DTSTAMP:20260420T092519Z
URL:http://business.thequietresorts.com/events/details/sock-hop-homicide-comedy-murder-mystery-dinner-at-dickens-parlour-28506
END:VEVENT

END:VCALENDAR
