BEGIN:VCALENDAR
VERSION:2.0
PRODID:-//ChamberMaster//Event Calendar 2.0//EN
METHOD:PUBLISH
X-PUBLISHED-TTL:P3D
REFRESH-INTERVAL:P3D
CALSCALE:GREGORIAN
BEGIN:VEVENT
DTSTART:20221019T223000Z
DTEND:20221020T013000Z
X-MICROSOFT-CDO-ALLDAYEVENT:FALSE
SUMMARY:SO LONG SUMMER ROSE WINE DINNER HARVEST TIDE BETHANY BEACH
DESCRIPTION:Our next wine dinner is your chance to experience phenomenal wines and perfectly paired dishes. Sit back and enjoy the relaxing atmosphere as you encounter rose wines.\n\n \n\nWe are counting down the days until October 19th\, when we finally get to taste the food and wine pairings that create flavors you wouldn't believe\; it's nothing short of magical.
X-ALT-DESC;FMTTYPE=text/html:<div style="text-align:center">\n<p>Our next wine dinner is your chance to experience phenomenal wines and perfectly paired dishes. Sit back and enjoy the relaxing atmosphere as you encounter rose wines.</p>\n\n<p>&nbsp\;</p>\n\n<p>We are counting down the days until October 19th\, when we finally get to taste the food and wine pairings that create flavors you wouldn&#39\;t believe\; it&#39\;s nothing short of magical.</p>\n</div>\n
LOCATION:Harvest Tide Steakhouse Bethany Beach
UID:e.2126.24491
SEQUENCE:3
DTSTAMP:20260421T173041Z
URL:http://business.thequietresorts.com/events/details/so-long-summer-rose-wine-dinner-harvest-tide-bethany-beach-24491
END:VEVENT

END:VCALENDAR
