BEGIN:VCALENDAR
VERSION:2.0
PRODID:-//ChamberMaster//Event Calendar 2.0//EN
METHOD:PUBLISH
X-PUBLISHED-TTL:P3D
REFRESH-INTERVAL:P3D
CALSCALE:GREGORIAN
BEGIN:VEVENT
DTSTART:20230504T140000Z
DTEND:20230504T180000Z
X-MICROSOFT-CDO-ALLDAYEVENT:FALSE
SUMMARY:Small Business Day in Dover
DESCRIPTION:After a 4 year hiatus\, Small Business Day in Dover is back in person!  A half day\, immersive experience in Delaware's captial\, you will learn about current issues that could impact your business and interact with the legislators who can pass or vote down these bills.  \n\n\n\n- Meet the BFACC and other DE Chambers of Commerce at Fraizer's for a focused workshop on the most important issues this legislative session.  Learn why you need to be involved. \n\n\n\n- The Delaware State Chamber of Commerce is bringng the House Small Business Caucus meeting to us.  Participate in an open forum and discuss all things small business. \n\n\n\n- A lunch buffet will be provided. \n\n\n\n- Put your advocacy skills to work.  Meet your organization's legislator one-on-one.\n\n\n\n- Tour the historic Legislative Hall.\n\n\n\n- Attend session and watch your legislators in action.\n\n\n\nInterested in more information on sponsoring this event?  Click Here.
X-ALT-DESC;FMTTYPE=text/html:<span style="font-family:arial\;"><font color="#004000">After a 4 year hiatus\, Small Business Day in Dover is back in person!&nbsp\; A half day\, immersive experience in Delaware&#39\;s captial\, you will learn about current issues that could impact your business and interact with the legislators who can pass or vote down these bills.&nbsp\;&nbsp\;<br />\n<br />\n- Meet the BFACC and other DE Chambers of Commerce at Fraizer&#39\;s for a focused workshop on the most important issues this legislative session.&nbsp\; Learn why you need to be involved.&nbsp\;<br />\n<br />\n- The Delaware State Chamber of Commerce is bringng the House Small Business Caucus meeting to us.&nbsp\; Participate in an open forum and discuss all things small business.&nbsp\;<br />\n<br />\n- A lunch buffet will be provided.&nbsp\;<br />\n<br />\n- Put your advocacy skills to work.&nbsp\; Meet your organization&#39\;s legislator one-on-one.<br />\n<br />\n- Tour the historic Legislative Hall.</font><br />\n<br />\n- Attend session and watch your legislators in action.<br />\n<br />\nInterested in more information on <span style="color:#FF0000\;">sponsoring</span> this event?&nbsp\; <a href="https://chambermaster.blob.core.windows.net/userfiles/UserFiles/chambers/2126/File/2023SmallBusinessDayinDover_sponsorshipsheet.pdf"><span style="color:#FF0000\;">Click Here</span></a>.</span>
LOCATION:Fraizer's Restaurant 9 E. Loockerman St. Dover\, DE 19901
UID:e.2126.25296
SEQUENCE:3
DTSTAMP:20260421T023846Z
URL:http://business.thequietresorts.com/events/details/small-business-day-in-dover-25296
END:VEVENT

END:VCALENDAR
