BEGIN:VCALENDAR
VERSION:2.0
PRODID:-//ChamberMaster//Event Calendar 2.0//EN
METHOD:PUBLISH
X-PUBLISHED-TTL:P3D
REFRESH-INTERVAL:P3D
CALSCALE:GREGORIAN
BEGIN:VEVENT
DTSTART:20221118T213000Z
DTEND:20221118T213000Z
X-MICROSOFT-CDO-ALLDAYEVENT:FALSE
SUMMARY:Sippin' with Sloths at Bordeleau Vineyards
DESCRIPTION:During your time with us\, you will learn all about sloth behavior and ecology\, pose for so many selfies\, and top it all off by hand-feeding one of our special slow-moving guests of honor! Oh and did we mention you get to drink wine while doing it?\n\n \n\nTickets include a beverage for each attendee and a private sloth encounter for your group.
X-ALT-DESC;FMTTYPE=text/html:<div>&nbsp\;</div>\n\n<div>\n<div class="_3wnIc" data-hook="bgLayers" id="bgLayers_comp-krqkdpx03" style="margin: 0px\; padding: 0px\; border: 0px\; outline: 0px\; vertical-align: baseline\; background-image: initial\; background-position: initial\; background-size: initial\; background-repeat: initial\; background-attachment: initial\; background-origin: initial\; background-clip: initial\; position: absolute\; top: 0px\; width: 674.5px\; height: 624px\; left: 0px\; overflow: hidden\; -webkit-mask-image: var(--mask-image\,none)\; -webkit-mask-position: var(--mask-position\,0)\; -webkit-mask-size: var(--mask-size\,100%)\; -webkit-mask-repeat: var(--mask-repeat\,no-repeat)\; pointer-events: var(--fill-layer-background-media-pointer-events)\; font-family: Arial\, Helvetica\, sans-serif\; font-size: 10px\;">\n<div class="_2GUhU" id="bgMedia_comp-krqkdpx03" style="margin: 0px\; padding: 0px\; border: 0px\; outline: 0px\; vertical-align: baseline\; background-image: initial\; background-position: initial\; background-size: initial\; background-repeat: initial\; background-attachment: initial\; background-origin: initial\; background-clip: initial\; height: 624px\; text-align: center\;">\n<div>&nbsp\;</div>\n\n<div>\n<div class="_3wnIc" data-hook="bgLayers" id="bgLayers_comp-krqkdpx03" style="margin: 0px\; padding: 0px\; border: 0px\; outline: 0px\; vertical-align: baseline\; background-image: initial\; background-position: initial\; background-size: initial\; background-repeat: initial\; background-attachment: initial\; background-origin: initial\; background-clip: initial\; position: absolute\; top: 0px\; width: 674.5px\; height: 624px\; left: 0px\; overflow: hidden\; -webkit-mask-image: var(--mask-image\,none)\; -webkit-mask-position: var(--mask-position\,0)\; -webkit-mask-size: var(--mask-size\,100%)\; -webkit-mask-repeat: var(--mask-repeat\,no-repeat)\; pointer-events: var(--fill-layer-background-media-pointer-events)\; font-family: Arial\, Helvetica\, sans-serif\; font-size: 10px\;">\n<div class="_2GUhU" id="bgMedia_comp-krqkdpx03" style="margin: 0px\; padding: 0px\; border: 0px\; outline: 0px\; vertical-align: baseline\; background-image: initial\; background-position: initial\; background-size: initial\; background-repeat: initial\; background-attachment: initial\; background-origin: initial\; background-clip: initial\; height: 624px\;"><br />\n<br />\n<br />\n<br />\n&nbsp\;</div>\n</div>\n\n<div data-mesh-id="comp-krqkdpx03inlineContent" data-testid="inline-content" style="margin: 0px\; padding: 0px\; border: 0px\; outline: 0px\; vertical-align: baseline\; background-image: initial\; background-position: initial\; background-size: initial\; background-repeat: initial\; background-attachment: initial\; background-origin: initial\; background-clip: initial\; position: relative\; pointer-events: none\; height: auto\; width: 674.5px\; font-family: Arial\, Helvetica\, sans-serif\; font-size: 10px\;">\n<div data-mesh-id="comp-krqkdpx03inlineContent-gridContainer" data-testid="mesh-container-content" style="margin: 0px\; padding: 0px\; border: 0px\; outline: 0px\; vertical-align: baseline\; background-image: initial\; background-position: initial\; background-size: initial\; background-repeat: initial\; background-attachment: initial\; background-origin: initial\; background-clip: initial\; position: static\; display: grid\; height: auto\; width: 674.5px\; min-height: 624px\; grid-template-rows: 1fr\; grid-template-columns: 100%\;">\n<div class="_2Hij5 _3bcaz" data-testid="richTextElement" id="comp-krqkdpx2" style="margin: 65px 0px 10px calc((100% - 490px) * 0.5)\; padding: 0px\; border: 0px\; outline: 0px\; vertical-align: baseline\; background-image: initial\; background-position: initial\; background-size: initial\; background-repeat: initial\; background-attachment: initial\; background-origin: initial\; background-clip: initial\; pointer-events: none\; overflow-wrap: break-word\; min-height: var(--min-height)\; min-width: var(--min-width)\; position: relative\; left: 16px\; grid-area: 1 / 1 / 2 / 2\; place-self: start\; width: 463px\; height: auto\; --min-height:390px\;">\n<p class="font_8" style="margin: 0px\; padding: 0px\; border: 0px\; outline: 0px\; vertical-align: baseline\; background-image: initial\; background-position: initial\; background-size: initial\; background-repeat: initial\; background-attachment: initial\; background-origin: initial\; background-clip: initial\; pointer-events: auto\; font-size: 19px\; line-height: normal\; color: rgb(var(--color_15))\; letter-spacing: 0em\; text-align: center\;">&nbsp\;</p>\n\n<p class="font_8" style="margin: 0px\; padding: 0px\; border: 0px\; outline: 0px\; vertical-align: baseline\; background-image: initial\; background-position: initial\; background-size: initial\; background-repeat: initial\; background-attachment: initial\; background-origin: initial\; background-clip: initial\; pointer-events: auto\; font-size: 19px\; line-height: normal\; color: rgb(var(--color_15))\; letter-spacing: 0em\; text-align: center\;"><span style="font-size:14px\;"><span style="font-family:arial\;"><span style="margin: 0px\; padding: 0px\; border: 0px\; outline: 0px\; vertical-align: baseline\; background-image: initial\; background-position: initial\; background-size: initial\; background-repeat: initial\; background-attachment: initial\; background-origin: initial\; background-clip: initial\;"><span style="margin: 0px\; padding: 0px\; border: 0px\; outline: 0px\; vertical-align: baseline\; background-image: initial\; background-position: initial\; background-size: initial\; background-repeat: initial\; background-attachment: initial\; background-origin: initial\; background-clip: initial\;">&#8203\;</span></span></span></span></p>\n\n<p class="font_8" style="margin: 0px\; padding: 0px\; border: 0px\; outline: 0px\; vertical-align: baseline\; background-image: initial\; background-position: initial\; background-size: initial\; background-repeat: initial\; background-attachment: initial\; background-origin: initial\; background-clip: initial\; pointer-events: auto\; font-size: 19px\; line-height: normal\; color: rgb(var(--color_15))\; letter-spacing: 0em\; text-align: center\;"><br />\n<br />\n<span style="font-size:14px\;"><span style="font-family:arial\;"><span style="margin: 0px\; padding: 0px\; border: 0px\; outline: 0px\; vertical-align: baseline\; background-image: initial\; background-position: initial\; background-size: initial\; background-repeat: initial\; background-attachment: initial\; background-origin: initial\; background-clip: initial\;"><span style="margin: 0px\; padding: 0px\; border: 0px\; outline: 0px\; vertical-align: baseline\; background-image: initial\; background-position: initial\; background-size: initial\; background-repeat: initial\; background-attachment: initial\; background-origin: initial\; background-clip: initial\;">During your time with us\, you will learn all about sloth behavior and ecology\, pose for so many selfies\, and top it all off by hand-feeding one of our special slow-moving guests of honor! Oh and did we mention you get to drink wine while doing it?</span></span></span></span></p>\n\n<p class="font_8" style="margin: 0px\; padding: 0px\; border: 0px\; outline: 0px\; vertical-align: baseline\; background-image: initial\; background-position: initial\; background-size: initial\; background-repeat: initial\; background-attachment: initial\; background-origin: initial\; background-clip: initial\; pointer-events: auto\; font-size: 19px\; line-height: normal\; color: rgb(var(--color_15))\; letter-spacing: 0em\; text-align: center\;"><span style="font-size:14px\;"><span style="font-family:arial\;"><span style="margin: 0px\; padding: 0px\; border: 0px\; outline: 0px\; vertical-align: baseline\; background-image: initial\; background-position: initial\; background-size: initial\; background-repeat: initial\; background-attachment: initial\; background-origin: initial\; background-clip: initial\;"><span style="margin: 0px\; padding: 0px\; border: 0px\; outline: 0px\; vertical-align: baseline\; background-image: initial\; background-position: initial\; background-size: initial\; background-repeat: initial\; background-attachment: initial\; background-origin: initial\; background-clip: initial\;">&#8203\;</span></span></span></span></p>\n\n<p class="font_8" style="margin: 0px\; padding: 0px\; border: 0px\; outline: 0px\; vertical-align: baseline\; background-image: initial\; background-position: initial\; background-size: initial\; background-repeat: initial\; background-attachment: initial\; background-origin: initial\; background-clip: initial\; pointer-events: auto\; font-size: 19px\; line-height: normal\; color: rgb(var(--color_15))\; letter-spacing: 0em\; text-align: center\;"><span style="font-size:14px\;"><span style="font-family:arial\;"><span style="margin: 0px\; padding: 0px\; border: 0px\; outline: 0px\; vertical-align: baseline\; background-image: initial\; background-position: initial\; background-size: initial\; background-repeat: initial\; background-attachment: initial\; background-origin: initial\; background-clip: initial\;"><span style="margin: 0px\; padding: 0px\; border: 0px\; outline: 0px\; vertical-align: baseline\; background-image: initial\; background-position: initial\; background-size: initial\; background-repeat: initial\; background-attachment: initial\; background-origin: initial\; background-clip: initial\;">Tickets include a beverage for each attendee and a private sloth encounter for your group.</span></span></span></span></p>\n</div>\n</div>\n</div>\n</div>\n</div>\n</div>\n</div>\n
LOCATION:Bordeleau Vineyards
UID:e.2126.24471
SEQUENCE:3
DTSTAMP:20260421T142123Z
URL:http://business.thequietresorts.com/events/details/sippin-with-sloths-at-bordeleau-vineyards-24471
END:VEVENT

END:VCALENDAR
