BEGIN:VCALENDAR
VERSION:2.0
PRODID:-//ChamberMaster//Event Calendar 2.0//EN
METHOD:PUBLISH
X-PUBLISHED-TTL:P3D
REFRESH-INTERVAL:P3D
CALSCALE:GREGORIAN
BEGIN:VEVENT
DTSTART:20240509T190000Z
DTEND:20240509T203000Z
X-MICROSOFT-CDO-ALLDAYEVENT:FALSE
SUMMARY:Sip\, Savor and Secure Your Legacy Wine Tasting with Compass Investment Advisors
DESCRIPTION:* How will you protect your assets for YOURSELF and your HEIRS?\n\n*What's the best way to share your wishes with you loved ones?\n\n\n\nJoin Dan Rowles\, CFP  from Compass Investment Advisors and Veronica Townsend\, ESQ from Weidman & Townsend\, P.A. for an informative discussion about properly securing your legacy while trying some of the latest wines from Salted Vines Winery.
X-ALT-DESC;FMTTYPE=text/html:* How will you protect your assets for YOURSELF and your HEIRS?<br />\n*What&#39\;s the best way to share your wishes with you loved ones?<br />\n<br />\nJoin Dan Rowles\, CFP&reg\; from Compass Investment Advisors and Veronica Townsend\, ESQ from Weidman &amp\; Townsend\, P.A. for an informative discussion about properly securing your legacy while trying some of the latest wines from Salted Vines Winery.&nbsp\;
LOCATION:Salted Vines Winery 32512 Blackwater Rd Frankford\, DE 19945
UID:e.2126.28727
SEQUENCE:3
DTSTAMP:20260420T042106Z
URL:http://business.thequietresorts.com/events/details/sip-savor-and-secure-your-legacy-wine-tasting-with-compass-investment-advisors-28727
END:VEVENT

END:VCALENDAR
