BEGIN:VCALENDAR
VERSION:2.0
PRODID:-//ChamberMaster//Event Calendar 2.0//EN
METHOD:PUBLISH
X-PUBLISHED-TTL:P3D
REFRESH-INTERVAL:P3D
CALSCALE:GREGORIAN
BEGIN:VEVENT
DTSTART:20221015T140000Z
DTEND:20221016T010000Z
X-MICROSOFT-CDO-ALLDAYEVENT:FALSE
SUMMARY:Sip 'n Shop with Pottery Place & Beach Break Boutique
DESCRIPTION:Pottery Place and\n\nBeach Break Boutique \n\nSIP 'N SHOP\n\n\n\nJoin us for a fun day of shopping\, socializing\, raffles every 2 hours\, giveaways\, wine\, and much more!\n\nThank you to our customers!
X-ALT-DESC;FMTTYPE=text/html:<p style="text-align: center\;"><span style="font-size:14px\;"><span style="font-family:arial\;"><strong>Pottery Place and<br />\nBeach Break Boutique&nbsp\;</strong></span></span></p>\n\n<p style="text-align: center\;"><span style="font-size:14px\;"><span style="font-family:arial\;"><strong>SIP &#39\;N SHOP</strong><br />\n<br />\nJoin us for a fun day of shopping\, socializing\, raffles every 2 hours\, giveaways\, wine\, and much more!<br />\n<em>Thank you to our customers!</em></span></span></p>\n
LOCATION:Pottery Place Home & Garden Beach Break Boutique 1500 Coastal Hwy. Fenwick Island
UID:e.2126.24477
SEQUENCE:3
DTSTAMP:20260421T160754Z
URL:http://business.thequietresorts.com/events/details/sip-n-shop-with-pottery-place-beach-break-boutique-24477
END:VEVENT

END:VCALENDAR
