BEGIN:VCALENDAR
VERSION:2.0
PRODID:-//ChamberMaster//Event Calendar 2.0//EN
METHOD:PUBLISH
X-PUBLISHED-TTL:P3D
REFRESH-INTERVAL:P3D
CALSCALE:GREGORIAN
BEGIN:VEVENT
DTSTART:20221018T140000Z
DTEND:20221018T213000Z
X-MICROSOFT-CDO-ALLDAYEVENT:FALSE
SUMMARY:Singer Estate Jewelry Event
DESCRIPTION:One Day Estate Trunk Show\n\nA three million dollar collection of antique\, vintage\, and contemporary estate jewelry\, including celebrity pieces!  Prices starting at $500.
X-ALT-DESC;FMTTYPE=text/html:<div><strong><span style="font-family:verdana\;"><span style="font-size:14px\;"><span style="font-size:20px\;">One Day Estate Trunk Show</span></span></span></strong></div>\n\n<div><span style="font-family:arial\;"><span style="font-size:14px\;">A three million dollar collection of antique\, vintage\, and contemporary estate jewelry\, including celebrity pieces!&nbsp\; Prices starting at $500.</span></span></div>\n
LOCATION:Ocean View Jewelers 35785 Atlantic Ave. Millville\, DE 19967 302-537-1121
UID:e.2126.24260
SEQUENCE:3
DTSTAMP:20260421T173313Z
URL:http://business.thequietresorts.com/events/details/singer-estate-jewelry-event-24260
END:VEVENT

END:VCALENDAR
