BEGIN:VCALENDAR
VERSION:2.0
PRODID:-//ChamberMaster//Event Calendar 2.0//EN
METHOD:PUBLISH
X-PUBLISHED-TTL:P3D
REFRESH-INTERVAL:P3D
CALSCALE:GREGORIAN
BEGIN:VEVENT
DTSTART:20231001T200000Z
DTEND:20231002T003000Z
X-MICROSOFT-CDO-ALLDAYEVENT:FALSE
SUMMARY:Sinatra Under the Stars at Bethany Club Tennis
DESCRIPTION:Bethany Club Tennis has hosted Steven Maglio (Frank Sinatra Tributeer) and "Sinatra Under the Stars" for two years\, raising over $100\,000 for two local veteran organizations: Veteran's Watchmaker Initiative and Rescue 22 Foundation\, both of which are based locally in Delaware. Proceeds are going directly to these organizations and we are proud to support this event for a third year to help these organizations. Join us to see Steven Maglio perform Sinatra Under the Stars on 9/24/2023 and Sean Matthew Whiteford and the House Party Band on 9/23/2023. Food onsite with our local vendors. Please plan to carpool if possible given the limited parking. Thank you for supporting both of these organizations.\n\nSteven is NOT an impersonator\, but he's so reminiscent of Frank Sinatra in voice and style\, that contemporaries consider him to be the world's premier Frank Sinatra tributeer.\n\nEvery Saturday since 2004\, with an 11 piece orchestra\, Steven performs his Sinatra tribute show at THE CARNEGIE CLUB (currently the longest running nightclub act in New York City)\n\n\n\nTickets $35-$100\n\nProceeds benefit local veteran organizations: Veteran's Watchmaker Initiative and Rescue 22 Foundation.\n\n\n\nFood trucks will be onsite. Tickets must be purchased in advance for $10 plus processing.\n\n \n\n\nSales end on Sep 23\, 2023
X-ALT-DESC;FMTTYPE=text/html:<p style="margin: 0px\; padding: 10px 0px 0px\; box-sizing: border-box\; color: rgb(111\, 114\, 135)\; font-size: 16px\; line-height: 1.5rem\; font-family: &quot\;Neue Plak&quot\;\, -apple-system\, BlinkMacSystemFont\, Roboto\, &quot\;Helvetica Neue&quot\;\, Helvetica\, Tahoma\, Arial\, sans-serif\;">Bethany Club Tennis has hosted Steven Maglio (Frank Sinatra Tributeer) and &quot\;Sinatra Under the Stars&quot\; for two years\, raising over $100\,000 for two local veteran organizations: Veteran&#39\;s Watchmaker Initiative and Rescue 22 Foundation\, both of which are based locally in Delaware. Proceeds are going directly to these organizations and we are proud to support this event for a third year to help these organizations. Join us to see Steven Maglio perform Sinatra Under the Stars on 9/24/2023 and Sean Matthew Whiteford and the House Party Band on 9/23/2023. Food onsite with our local vendors. Please plan to carpool if possible given the limited parking. Thank you for supporting both of these organizations.</p>\n\n<p style="margin: 0px\; padding: 10px 0px 0px\; box-sizing: border-box\; color: rgb(111\, 114\, 135)\; font-size: 16px\; line-height: 1.5rem\; font-family: &quot\;Neue Plak&quot\;\, -apple-system\, BlinkMacSystemFont\, Roboto\, &quot\;Helvetica Neue&quot\;\, Helvetica\, Tahoma\, Arial\, sans-serif\;">Steven is NOT an impersonator\, but he&#39\;s so reminiscent of Frank Sinatra in voice and style\, that contemporaries consider him to be the world&#39\;s premier Frank Sinatra tributeer.</p>\n\n<p style="margin: 0px\; padding: 10px 0px 0px\; box-sizing: border-box\; color: rgb(111\, 114\, 135)\; font-size: 16px\; line-height: 1.5rem\; font-family: &quot\;Neue Plak&quot\;\, -apple-system\, BlinkMacSystemFont\, Roboto\, &quot\;Helvetica Neue&quot\;\, Helvetica\, Tahoma\, Arial\, sans-serif\;">Every Saturday since 2004\, with an 11 piece orchestra\, Steven performs his Sinatra tribute show at THE CARNEGIE CLUB (currently the longest running nightclub act in New York City)<br />\n<br />\nTickets $35-$100<br />\n<span style="color: rgb(111\, 114\, 135)\; font-family: &quot\;Neue Plak&quot\;\, -apple-system\, BlinkMacSystemFont\, Roboto\, &quot\;Helvetica Neue&quot\;\, Helvetica\, Tahoma\, Arial\, sans-serif\; font-size: 14px\; white-space-collapse: preserve\;">Proceeds benefit local veteran organizations: Veteran&#39\;s Watchmaker Initiative and Rescue 22 Foundation.<br />\n<br />\nFood trucks will be onsite. Tickets must be purchased in advance for $10 plus processing.</span><br />\n&nbsp\;</p>\n\n<div class="eds-l-mar-bot-2" style="margin: 0px 0px 8px\; padding: 0px\; color: rgb(111\, 114\, 135)\; font-family: &quot\;Neue Plak&quot\;\, -apple-system\, BlinkMacSystemFont\, Roboto\, &quot\;Helvetica Neue&quot\;\, Helvetica\, Tahoma\, Arial\, sans-serif\; font-size: 14px\;">\n<p data-spec="tiered-ticket-onsale-status-description" style="margin: 0px\; padding: 0px\;"><strong><span class="tiered-ticket-onsale-status__date">Sales end on Sep 23\, 2023</span></strong></p>\n</div>\n
LOCATION:Bethany Club Tennis 30078 Cedar Neck Road Ocean View\, DE 19970
UID:e.2126.26900
SEQUENCE:3
DTSTAMP:20260420T183323Z
URL:http://business.thequietresorts.com/events/details/sinatra-under-the-stars-at-bethany-club-tennis-26900
END:VEVENT

END:VCALENDAR
