BEGIN:VCALENDAR
VERSION:2.0
PRODID:-//ChamberMaster//Event Calendar 2.0//EN
METHOD:PUBLISH
X-PUBLISHED-TTL:P3D
REFRESH-INTERVAL:P3D
CALSCALE:GREGORIAN
BEGIN:VEVENT
DTSTART:20240315T220000Z
DTEND:20240316T000000Z
X-MICROSOFT-CDO-ALLDAYEVENT:FALSE
SUMMARY:Simple Supper - Raising Food Insecurity Awareness to Benefit the Society of St Andrew
DESCRIPTION:The Christian Education and Mission committees and Women's Sewing Circle of Ocean View Presbyterian Church is sponsoring a simple supper with guest speaker Jean Siers to raise awareness of food insecurity locally and worldwide.  A free will offering will be collected to benefit the Society of St. Andrew.\n\n\n\nReservations necessary so that we can prepare enough food.  Email(office@ovpc.org) or call the church office (302-539-3455)
X-ALT-DESC;FMTTYPE=text/html:The Christian Education and Mission committees and Women&#39\;s Sewing Circle of Ocean View Presbyterian Church is sponsoring a simple supper with guest speaker&nbsp\;Jean Siers to raise awareness of food insecurity locally and worldwide.&nbsp\; A free will offering will be collected to benefit the Society of St. Andrew.<br />\n<br />\nReservations necessary so that we can prepare enough food.&nbsp\; Email(office@ovpc.org) or call the church office (302-539-3455)
LOCATION:Ocean View Presbyterian Church 67 Central Avenue Ocean View\, DE 19970
UID:e.2126.28533
SEQUENCE:3
DTSTAMP:20260420T074543Z
URL:http://business.thequietresorts.com/events/details/simple-supper-raising-food-insecurity-awareness-to-benefit-the-society-of-st-andrew-28533
END:VEVENT

END:VCALENDAR
