BEGIN:VCALENDAR
VERSION:2.0
PRODID:-//ChamberMaster//Event Calendar 2.0//EN
METHOD:PUBLISH
X-PUBLISHED-TTL:P3D
REFRESH-INTERVAL:P3D
CALSCALE:GREGORIAN
BEGIN:VEVENT
DTSTART:20191206T220000Z
DTEND:20191207T010000Z
X-MICROSOFT-CDO-ALLDAYEVENT:FALSE
SUMMARY:Silver Bells Holiday Quarter & Benefit Auction
DESCRIPTION:Auction preview begins at 5 pm. With the auction starting at 6 p.m. Bring quarters or get them from us to bid on great items from local businesses. General admission gets you into the auction to bid and one paddle\, $10 in advance\; $15 at the door. VIP ticket includes admission to the auction\, one paddle\, and access to the VIP room for refreshments from local businesses. VIP tickets are $35. For more information or tickets visit our website at www.wardmuseum.org or call 410-742-4988 ext. 120.
X-ALT-DESC;FMTTYPE=text/html:<span style="font-size: 14px\;"><span style="font-family: arial\;">Auction preview begins at 5 pm. With the auction starting at 6 p.m. Bring quarters or get them from us to bid on great items from local businesses. General admission gets you into the auction to bid and one paddle\, $10 in advance\; $15 at the door. VIP ticket includes admission to the auction\, one paddle\, and access to the VIP room for refreshments from local businesses. VIP tickets are $35. For more information or tickets visit our website at www.wardmuseum.org or call 410-742-4988 ext. 120.</span></span>
LOCATION:Ward Museum 909 S. Schumaker Dr Salisbury\, MD 21804
UID:e.2126.13633
SEQUENCE:3
DTSTAMP:20260426T034652Z
URL:http://business.thequietresorts.com/events/details/silver-bells-holiday-quarter-benefit-auction-12-07-2019-13633
END:VEVENT

END:VCALENDAR
