BEGIN:VCALENDAR
VERSION:2.0
PRODID:-//ChamberMaster//Event Calendar 2.0//EN
METHOD:PUBLISH
X-PUBLISHED-TTL:P3D
REFRESH-INTERVAL:P3D
CALSCALE:GREGORIAN
BEGIN:VEVENT
DTSTART:20200718T140000Z
DTEND:20200718T150000Z
X-MICROSOFT-CDO-ALLDAYEVENT:FALSE
SUMMARY:Silly Joe Sings!
DESCRIPTION:Silly Joe entertains audiences with high-energy songs about the everyday lives of kids and families. With a guitar\, a loud voice\, a wig\, a kazoo\, boxer shorts\, and a lot of silly body movements\, Silly Joe keeps everyone involved in the show. Silly Joe sings about family trips with grumpy dads in "Are We There Yet?" crazy pets in "Timmy Had a Tiger" and "Dumb Dog\," brother and sister relationships in "Little Sister Blues" and "Princess in Training\," and kids who act goofy in "Put It on My Head" and "The Underwear Song." Mixing stories with music\, Silly Joe captures family moments in an honest and imaginative way. Kids and parents enjoy laughing with Silly Joe and at themselves as he offers a lighthearted look at the comedy and quirks of family life.
X-ALT-DESC;FMTTYPE=text/html:<span style="font-size: 14px\;"><span style="font-family: arial\;">Silly Joe entertains audiences with high-energy songs about the everyday lives of kids and families. With a guitar\, a loud voice\, a wig\, a kazoo\, boxer shorts\, and a lot of silly body movements\, Silly Joe keeps everyone involved in the show. Silly Joe sings about family trips with grumpy dads in &ldquo\;Are We There Yet?&rdquo\; crazy pets in &ldquo\;Timmy Had a Tiger&rdquo\; and &ldquo\;Dumb Dog\,&rdquo\; brother and sister relationships in &ldquo\;Little Sister Blues&rdquo\; and &ldquo\;Princess in Training\,&rdquo\; and kids who act goofy in &ldquo\;Put It on My Head&rdquo\; and &ldquo\;The Underwear Song.&rdquo\; Mixing stories with music\, Silly Joe captures family moments in an honest and imaginative way. Kids and parents enjoy laughing with Silly Joe and at themselves as he offers a lighthearted look at the comedy and quirks of family life.</span></span>
LOCATION:The Freeman Stage 31750 Lake View Drive Selbyville\, DE 19975
UID:e.2126.21692
SEQUENCE:3
DTSTAMP:20260425T163022Z
URL:http://business.thequietresorts.com/events/details/silly-joe-sings-21692
END:VEVENT

END:VCALENDAR
