BEGIN:VCALENDAR
VERSION:2.0
PRODID:-//ChamberMaster//Event Calendar 2.0//EN
METHOD:PUBLISH
X-PUBLISHED-TTL:P3D
REFRESH-INTERVAL:P3D
CALSCALE:GREGORIAN
BEGIN:VEVENT
DTSTART:20230924T200000Z
DTEND:20230924T230000Z
X-MICROSOFT-CDO-ALLDAYEVENT:FALSE
SUMMARY:Shrimp Boil Benefitting Southern Sussex Rotary Club
DESCRIPTION:Southern Sussex Rotary Club invites you to a shrimp boil at Bethany Brewing on September 24\, 2023\, from 4:00 pm to 7:00 pm.  Individual tickets are $50 per person or $90 per couple and include food\, fun\, friendship\, and a cash bar.  All proceeds benefit the SouthernSussex Rotary Club\, which is focused on many issues in the community\, including celebration of local heroes with 'Flags for Heroes' on Memorial Day\, supporting local food banks\, sponsoring scholarships for students\, and much more!\n\n\n\nThere will also be a silent auction and raffles!  Fundraising efforts have been increased this year through the opportunity for sponsorships in addition to tickets.
X-ALT-DESC;FMTTYPE=text/html:Southern Sussex Rotary Club invites you to a shrimp boil at Bethany Brewing on September 24\, 2023\, from 4:00 pm to 7:00 pm.&nbsp\; Individual tickets are $50 per person or $90 per couple and include food\, fun\, friendship\, and a cash bar.&nbsp\; All proceeds benefit the SouthernSussex Rotary Club\, which is focused on many issues in the community\, including celebration of local heroes with &#39\;Flags for Heroes&#39\; on Memorial Day\, supporting local food banks\, sponsoring scholarships for students\, and much more!<br />\n<br />\nThere will also be a silent auction and raffles!&nbsp\; Fundraising efforts have been increased this year through the opportunity for sponsorships in addition to tickets.&nbsp\;&nbsp\;
LOCATION:Bethany Brewing 38450 Hickman Rd. Ocean View\, DE\, 19970
UID:e.2126.26586
SEQUENCE:3
DTSTAMP:20260420T200539Z
URL:http://business.thequietresorts.com/events/details/shrimp-boil-benefitting-southern-sussex-rotary-club-26586
END:VEVENT

END:VCALENDAR
