BEGIN:VCALENDAR
VERSION:2.0
PRODID:-//ChamberMaster//Event Calendar 2.0//EN
METHOD:PUBLISH
X-PUBLISHED-TTL:P3D
REFRESH-INTERVAL:P3D
CALSCALE:GREGORIAN
BEGIN:VEVENT
DTSTART:20220513T130000Z
DTEND:20220513T160000Z
X-MICROSOFT-CDO-ALLDAYEVENT:FALSE
SUMMARY:Shred It Event Sponsored By WSFS
DESCRIPTION:SHRED THIS\, THAT AND THE OTHER THING.\n\nWSFS Bank will be sponsoring a FREE Shred It Event on Friday\, May 13th from 9am - Noon at the Bethany-Fenwick Area Chamber of Commerce Office.\n\nShred your confidential documents for FREE! No limit on how much can be shredded.\n\nContact Terry Kistler at tkistler@wsfsbank.com for more information.
X-ALT-DESC;FMTTYPE=text/html:<h1><span style="font-size:14px\;"><strong><span style="color:#333333\;">SHRED THIS\, THAT AND THE OTHER THING.</span></strong></span><br />\n<span style="color:#000000\;"><span style="font-family:arial\;"><span style="font-size:14px\;">WSFS Bank will be sponsoring a FREE Shred It Event on Friday\, May 13th from 9am - Noon at the Bethany-Fenwick Area Chamber of Commerce Office.<br />\nShred your confidential documents for FREE! No limit on how much can be shredded.<br />\nContact Terry Kistler at tkistler@wsfsbank.com for more information.</span></span></span><br />\n&nbsp\;</h1>\n
LOCATION:Bethany-Fenwick Area Chamber of Commerce 36913 Coastal Hwy. Fewnwick Island\, DE 19944
UID:e.2126.23622
SEQUENCE:3
DTSTAMP:20260422T000849Z
URL:http://business.thequietresorts.com/events/details/shred-it-event-sponsored-by-wsfs-23622
END:VEVENT

END:VCALENDAR
