BEGIN:VCALENDAR
VERSION:2.0
PRODID:-//ChamberMaster//Event Calendar 2.0//EN
METHOD:PUBLISH
X-PUBLISHED-TTL:P3D
REFRESH-INTERVAL:P3D
CALSCALE:GREGORIAN
BEGIN:VEVENT
DTSTART:20230512T130000Z
DTEND:20230512T170000Z
X-MICROSOFT-CDO-ALLDAYEVENT:FALSE
SUMMARY:Shred It and Forget It with WSFS
DESCRIPTION:Shred your confidential documents for free at the Shred It and Forget It event on Friday\, May 12 between 9:00a.m. - 1:00 p.m at the Bethany-Fenwick Area Chamber of Commerce. Sponsored by WSFS Bank\, this opportunity to shred your confidential documents helps to protect yourself from consumer fraud and identity theft. \n\n\n\nBring as much as you want! A Shred It truck will be onsite in the Chamber parking lot to collect all sensitive documentation.\n\n\n\nOther WSFS Shred It and Forget it Dates/Locations:\n\n\n\nLocation: WSFS Rehoboth Banking Office\n\nAddress: 19335 Coastal Hwy.\, Rehoboth Beach\, DE 19971\n\nDate: Friday\, May 5th\n\nTime: 10:00a.m. -1:00p.m.\n\n\n\nLocation: Millsboro City Hall\n\nAddress: 322 Wilson Hwy.\, Millsboro\, DE 19966\n\nDate: Friday\, May 19\n\nTime: 9:00a.m. - 1:00p.m.
X-ALT-DESC;FMTTYPE=text/html:<span style="font-size:14px\;"><span style="font-family:arial\;">Shred your confidential documents for free at the <strong>Shred It and Forget It</strong> event on<strong> Friday\, May 12</strong> between<strong> 9:00a.m. - 1:00 p.m</strong> at the <strong>Bethany-Fenwick Area Chamber of Commerce</strong>. Sponsored by WSFS Bank\, this opportunity to shred your confidential documents helps to protect yourself from consumer fraud and identity theft.&nbsp\;<br />\n<br />\nBring as much as you want! A Shred It truck will be onsite in the Chamber parking lot to collect all sensitive documentation.<br />\n<br />\n<strong><u>Other WSFS Shred It and Forget it Dates/Locations:</u></strong><br />\n<br />\nLocation: WSFS Rehoboth Banking Office<br />\nAddress: 19335 Coastal Hwy.\, Rehoboth Beach\, DE 19971<br />\nDate: Friday\, May 5th<br />\nTime: 10:00a.m. -1:00p.m.<br />\n<br />\nLocation: Millsboro City Hall<br />\nAddress: 322 Wilson Hwy.\, Millsboro\, DE 19966<br />\nDate: Friday\, May 19<br />\nTime: 9:00a.m. - 1:00p.m.</span></span><br />\n<br />\n<br />\n&nbsp\;
LOCATION:Bethany-Fenwick Area Chamber of Commerce 36913 Coastal Hwy. Fenwick Island\, DE 19944
UID:e.2126.25298
SEQUENCE:3
DTSTAMP:20260421T023640Z
URL:http://business.thequietresorts.com/events/details/shred-it-and-forget-it-with-wsfs-25298
END:VEVENT

END:VCALENDAR
