BEGIN:VCALENDAR
VERSION:2.0
PRODID:-//ChamberMaster//Event Calendar 2.0//EN
METHOD:PUBLISH
X-PUBLISHED-TTL:P3D
REFRESH-INTERVAL:P3D
CALSCALE:GREGORIAN
BEGIN:VEVENT
DTSTART:20201028T144500Z
DTEND:20201028T044500Z
X-MICROSOFT-CDO-ALLDAYEVENT:FALSE
SUMMARY:Sherwin Williams - GRAND OPENING & RIBBON CUTTING
DESCRIPTION:Join the staff of Sherwin Williams and the Bethany-Fenwick Area Chamber of Commerce for an Open House & Ribbon Cutting to celebrate their Grand Opening on Wednesday October 28th\, 2020  from 10:45am to 2:00 pm. Lunch and light refreshments will be served immediately after the ribbon-cutting.
X-ALT-DESC;FMTTYPE=text/html:<span style="font-size: 14px\;"><span style="font-family: arial\;">Join the staff of Sherwin Williams and the Bethany-Fenwick Area Chamber of Commerce for an Open House &amp\; Ribbon Cutting to celebrate their Grand Opening on Wednesday October 28th\, 2020&nbsp\; from 10:45am to 2:00 pm. Lunch and light refreshments will be served immediately after the ribbon-cutting.</span></span><br>\n<br>\n&nbsp\;
LOCATION:Sherwin Williams 89 Atlantic Avenue Ocean View\, DE 19970
UID:e.2126.20065
SEQUENCE:3
DTSTAMP:20260425T114509Z
URL:http://business.thequietresorts.com/events/details/sherwin-williams-grand-opening-ribbon-cutting-20065
END:VEVENT

END:VCALENDAR
