BEGIN:VCALENDAR
VERSION:2.0
PRODID:-//ChamberMaster//Event Calendar 2.0//EN
METHOD:PUBLISH
X-PUBLISHED-TTL:P3D
REFRESH-INTERVAL:P3D
CALSCALE:GREGORIAN
BEGIN:VEVENT
DTSTART:20240116T230000Z
DTEND:20240117T010000Z
X-MICROSOFT-CDO-ALLDAYEVENT:FALSE
SUMMARY:"Shared Visions" Reading at Art League of OC
DESCRIPTION:Join us at the Art League of Ocean City on 94th street as you meet the artists and writers of this year's "Shared Visions" collaboration - on display for the month of January. Hear readings of the poetry and prose that inspired the artwork on display. Free and open to the public.
X-ALT-DESC;FMTTYPE=text/html:<span style="color:rgb(29\, 16\, 44)\; font-family:museo sans w01\,helvetica neue\,helvetica\,helvetica\,arial\,sans-serif\; font-size:14px">Join us at the Art League of Ocean City on 94th street as you meet the artists and writers of this year&rsquo\;s &ldquo\;Shared Visions&rdquo\; collaboration -&nbsp\;on display for the month of January. Hear readings of the poetry and prose that inspired the artwork on display. Free and open to the public.</span>
LOCATION:Art League of Ocean City 502 94th Street Ocean City\, MD 21842
UID:e.2126.27401
SEQUENCE:3
DTSTAMP:20260420T135916Z
URL:http://business.thequietresorts.com/events/details/shared-visions-reading-at-art-league-of-oc-27401
END:VEVENT

END:VCALENDAR
