BEGIN:VCALENDAR
VERSION:2.0
PRODID:-//ChamberMaster//Event Calendar 2.0//EN
METHOD:PUBLISH
X-PUBLISHED-TTL:P3D
REFRESH-INTERVAL:P3D
CALSCALE:GREGORIAN
BEGIN:VEVENT
DTSTART:20231026T183000Z
DTEND:20231026T193000Z
X-MICROSOFT-CDO-ALLDAYEVENT:FALSE
SUMMARY:Share Your Love: A Family Discussion Guide and Estate Planning Workshop
DESCRIPTION:Share Your Love Family Discussion Guide\n\n\n\nHave you talked to your family about your estate?\n\nOverwhelmed by legal documents?\n\n\n\n* Talking to loved ones about your estate doesn't need to be difficult.\n\n* If you have moved to Delaware in the last 5 years\, is your Estate\n\nPlan up to date?\n\n*Make sure your wishes are honored once you're gone.\n\n \n\nJoin Compass Investment Advisors for a FREE 1-hour Estate Planning\n\nWorkshop. You'll leave more confident to initiate an open\, thoughtful\n\ndialogue with your family as you plan for the future and how to honor\n\nyour final requests.
X-ALT-DESC;FMTTYPE=text/html:<div>\n<div><strong>Share Your Love Family Discussion Guide</strong></div>\n\n<div><br />\nHave you talked to your family about your estate?</div>\n\n<div>Overwhelmed by legal documents?</div>\n\n<div><br />\n* Talking to loved ones about your estate doesn&rsquo\;t need to be difficult.</div>\n\n<div>* If you have moved to Delaware in the last 5 years\, is your Estate</div>\n\n<div>Plan up to date?</div>\n\n<div>*Make sure your wishes are honored once you&rsquo\;re gone.</div>\n\n<div>&nbsp\;</div>\n\n<div>Join Compass Investment Advisors for a FREE 1-hour Estate Planning</div>\n\n<div>Workshop. You&rsquo\;ll leave more confident to initiate an open\, thoughtful</div>\n\n<div>dialogue with your family as you plan for the future and how to honor</div>\n\n<div>your final requests.</div>\n</div>\n
LOCATION:Bethany-Fenwick Chamber of Commerce 36913 Coastal Hwy. Fenwick Island\, DE 19944
UID:e.2126.27017
SEQUENCE:3
DTSTAMP:20260420T183250Z
URL:http://business.thequietresorts.com/events/details/share-your-love-a-family-discussion-guide-and-estate-planning-workshop-10-26-2023-27017
END:VEVENT

END:VCALENDAR
