BEGIN:VCALENDAR
VERSION:2.0
PRODID:-//ChamberMaster//Event Calendar 2.0//EN
METHOD:PUBLISH
X-PUBLISHED-TTL:P3D
REFRESH-INTERVAL:P3D
CALSCALE:GREGORIAN
BEGIN:VEVENT
DTSTART:20231023T200000Z
DTEND:20231023T213000Z
X-MICROSOFT-CDO-ALLDAYEVENT:FALSE
SUMMARY:Shaka Shack Expansion Grand Opening & Ribbon Cutting
DESCRIPTION:Join the Chamber staff in celebrating the Grand Opening of Shaka Shack's new indoor seating and patio expansion with a ribbon cutting on Monday\, October 23\, 2023!  The celebration begins at 4:00pm\, with the ribbon to be cut at 5:00pm. \n\n\n\nShaka Shack will be providing refreshments\, including sample slices of Smith Island cakes\, and will be featuring their Monday Off Season meal Specials: 1/2 price Dirty Shaka with purchase of sandwich/entree and 3 sliders built your way!\n\n\n\nThere will be a raffle drawing for a Shaka Shack t-shirt and special displays by Driftwood Desserts and Prickly Gal Boutique!
X-ALT-DESC;FMTTYPE=text/html:<span style="color: rgb(51\, 51\, 51)\; font-family: sans-serif\, Arial\, Verdana\, &quot\;Trebuchet MS&quot\;\; font-size: 13px\; background-color: rgb(255\, 255\, 255)\;">Join the Chamber staff in celebrating the Grand Opening of Shaka Shack&#39\;s new indoor seating and patio expansion with a ribbon cutting on Monday\, October 23\, 2023!&nbsp\; The celebration begins at 4:00pm\, with the ribbon to be cut at 5:00pm.&nbsp\;<br />\n<br />\nShaka Shack will be providing refreshments\, including sample slices of Smith Island cakes\, and will be featuring their Monday Off Season meal Specials: 1/2 price Dirty Shaka with purchase of sandwich/entree and 3 sliders built your way!<br />\n<br />\nThere will be a raffle drawing for a Shaka Shack t-shirt and special displays by Driftwood Desserts and Prickly Gal Boutique!</span><br />\n&nbsp\;
LOCATION:Shaka Shack 35308 Atlantic Ave. Millville\, DE\, 19967
UID:e.2126.27022
SEQUENCE:3
DTSTAMP:20260420T183321Z
URL:http://business.thequietresorts.com/events/details/shaka-shack-expansion-grand-opening-ribbon-cutting-27022
END:VEVENT

END:VCALENDAR
