BEGIN:VCALENDAR
VERSION:2.0
PRODID:-//ChamberMaster//Event Calendar 2.0//EN
METHOD:PUBLISH
X-PUBLISHED-TTL:P3D
REFRESH-INTERVAL:P3D
CALSCALE:GREGORIAN
BEGIN:VEVENT
DTSTART:20210708T233000Z
DTEND:20210709T010000Z
X-MICROSOFT-CDO-ALLDAYEVENT:FALSE
SUMMARY:Separate Ways the Band
DESCRIPTION:Separate Ways the Band is the Ultimate Journey Tribute Show on the east coast recreating the mid  '80s line up. You will experience an accurate portrayal of the Steve Perry era with all the subtle nuances\, inflections\, harmonies\, and visual gratification of seeing the original Journey show live. www.separatewaystheband.com
X-ALT-DESC;FMTTYPE=text/html:<span style="font-size:14px\;"><span style="background-color: rgba(255\, 255\, 255\, 0.95)\; color: rgb(68\, 68\, 68)\; font-family: arial\;">Separate Ways the Band is the Ultimate Journey Tribute Show on the east coast recreating the mid &ndash\;&lsquo\;80s line up. You will experience an accurate portrayal of the Steve Perry era with all the subtle nuances\, inflections\, harmonies\, and visual gratification of seeing the original Journey show live. www.separatewaystheband.com&nbsp\;</span></span>
LOCATION:Bethany Beach Bandstand Garfield Parkway & Boardwalk\, Bethany Beach
UID:e.2126.22569
SEQUENCE:3
DTSTAMP:20260424T190109Z
URL:http://business.thequietresorts.com/events/details/separate-ways-22569
END:VEVENT

END:VCALENDAR
