BEGIN:VCALENDAR
VERSION:2.0
PRODID:-//ChamberMaster//Event Calendar 2.0//EN
METHOD:PUBLISH
X-PUBLISHED-TTL:P3D
REFRESH-INTERVAL:P3D
CALSCALE:GREGORIAN
BEGIN:VEVENT
DTSTART;VALUE=DATE:20240412
DTEND;VALUE=DATE:20240522
TRANSP:TRANSPARENT
X-MICROSOFT-CDO-ALLDAYEVENT:TRUE
SUMMARY:Senator Townsend 153rd Birthday Bash with the Selbyville Historical Society
DESCRIPTION:The Selbyville Historical Society is excited to announce its first fundraiser in celebration on Senator John Townsend's 153rd birthday on June 1\, 2024\, at the Selbyville Fire Hall (30 N Main St.) from 6pm - 9pm.  A festive celebration is planned with dinner\, music\, silent auctions and brief remarks by the co-chairmen of the event\, State Senator Gerald Hocker and State Representative Ron Gray.\n\n\n\nProceeds from the event will be used to preserve and restore the Selbyville Historical Society's future facility\, the historic Townsend residence\, for programs that educate and illustrate Selbyville's rich town heritage and to collect and archive precious town memorabilia that will bring the town's history alive.\n\n\n\nTickets are $75 each and available by clicking the green 'Register Now' button.  After clicking the green 'Register Now' button\, click 'not a member' to continue. \n\n\n\nThank you for supporting the Selbyville Historical Society.
X-ALT-DESC;FMTTYPE=text/html:The Selbyville Historical Society is excited to announce its first fundraiser in celebration on Senator John Townsend&#39\;s 153rd birthday on June 1\, 2024\, at the Selbyville Fire Hall (30 N Main St.) from 6pm - 9pm.&nbsp\; A festive celebration is planned with dinner\, music\, silent auctions and brief remarks by the co-chairmen of the event\, State Senator Gerald Hocker and State Representative Ron Gray.<br />\n<br />\nProceeds from the event will be used to preserve and restore the Selbyville Historical Society&#39\;s future facility\, the historic Townsend residence\, for programs that educate and illustrate Selbyville&#39\;s rich town heritage and to collect and archive precious town memorabilia that will bring the town&#39\;s history alive.<br />\n<br />\nTickets are $75 each and available by clicking the green &#39\;Register Now&#39\; button.&nbsp\; After clicking the green &#39\;Register Now&#39\; button\, click &#39\;not a member&#39\; to continue.&nbsp\;<br />\n<br />\nThank you for supporting the Selbyville Historical Society.&nbsp\;
LOCATION:Selbyville Volunteer Fire Co. Fire Hall 30 N Main St. Selbyville\, DE 19975
UID:e.2126.28681
SEQUENCE:3
DTSTAMP:20260420T042239Z
URL:http://business.thequietresorts.com/events/details/senator-townsend-153rd-birthday-bash-with-the-selbyville-historical-society-28681
END:VEVENT

END:VCALENDAR
