BEGIN:VCALENDAR
VERSION:2.0
PRODID:-//ChamberMaster//Event Calendar 2.0//EN
METHOD:PUBLISH
X-PUBLISHED-TTL:P3D
REFRESH-INTERVAL:P3D
CALSCALE:GREGORIAN
BEGIN:VEVENT
DTSTART:20201014T160000Z
DTEND:20201014T170000Z
X-MICROSOFT-CDO-ALLDAYEVENT:FALSE
SUMMARY:Sell Online This Holiday Season with E-Commerce Tools
DESCRIPTION:Disruptions from the COVID-19 pandemic have lasted longer than we all anticipated. With the holiday season fast approaching\, it's more important than ever to help small businesses learn to use e-commerce tools so they can sell their products online.
X-ALT-DESC;FMTTYPE=text/html:<span style="color: rgb(0\, 56\, 101)\; font-family: &quot\;Century Gothic&quot\;\, Calibri\, Helvetica\, Arial\, sans-serif\; font-size: 14px\; white-space: pre-wrap\;">Disruptions from the COVID-19 pandemic have lasted longer than we all anticipated. With the holiday season fast approaching\, it&#39\;s more important than ever to help small businesses learn to use e-commerce tools so they can sell their products online.</span>
LOCATION:Zoom
UID:e.2126.21782
SEQUENCE:3
DTSTAMP:20260425T113736Z
URL:http://business.thequietresorts.com/events/details/sell-online-this-holiday-season-with-e-commerce-tools-21782
END:VEVENT

END:VCALENDAR
