BEGIN:VCALENDAR
VERSION:2.0
PRODID:-//ChamberMaster//Event Calendar 2.0//EN
METHOD:PUBLISH
X-PUBLISHED-TTL:P3D
REFRESH-INTERVAL:P3D
CALSCALE:GREGORIAN
BEGIN:VEVENT
DTSTART:20200222T170000Z
DTEND:20200222T190000Z
X-MICROSOFT-CDO-ALLDAYEVENT:FALSE
SUMMARY:Self Defense Workshop
DESCRIPTION:$34.95  - 2 hour class - limited space - 15 slots \n\n\n\nWe are teaming up with Streetwise for a Self Defense Workshop.  This workshop will teach and demonstrate how to recognize\, react to\, and survive an attack.  Streetwise is a team of educators and motivators who help build confidence\, knowledge\, and strength to feel empowered in a threatening situation.\n\n\n\nGym members can register on line via the Energy Gym app and non-members can call the Gym at (302)436-9001 to register.
X-ALT-DESC;FMTTYPE=text/html:<span style="background-color:rgb(255\, 255\, 255)\; color:rgb(29\, 33\, 41)\; font-family:inherit\; font-size:14px">$34.95&nbsp\; - 2 hour class - limited space - 15 slots </span><br />\n<br />\n<span style="background-color:rgb(255\, 255\, 255)\; color:rgb(29\, 33\, 41)\; font-family:inherit\; font-size:14px">We are teaming up with Streetwise for a Self Defense Workshop.&nbsp\; This workshop will teach and demonstrate how to recognize\, react to\, and survive an attack.&nbsp\; Streetwise is a team of educators and motivators who help build confidence\, knowledge\, and strength to feel empowered in a threatening situation.<br />\n<br />\nGym members can register on line via the Energy Gym app and non-members can call the Gym at (302)436-9001 to register.&nbsp\;</span>
LOCATION:Energy Gym 36666 Bluewater Run W Selbyville DE 19975
UID:e.2126.20263
SEQUENCE:3
DTSTAMP:20260426T002950Z
URL:http://business.thequietresorts.com/events/details/self-defense-workshop-20263
END:VEVENT

END:VCALENDAR
